BEGIN:VCALENDAR
VERSION:2.0
PRODID:-//AusschreibungsRadar//Timeline//DE
CALSCALE:GREGORIAN
METHOD:PUBLISH
X-WR-CALNAME:Projekt Sicherheitsdienst in der Außenstelle Christian-Griesbach-Hau
X-WR-TIMEZONE:Europe/Berlin
BEGIN:VEVENT
UID:95c55df51e982537@ausschreibungsradar.com
DTSTAMP:20260425T151435Z
DTSTART;VALUE=DATE:20260109
DTEND;VALUE=DATE:20260109
SUMMARY:Ausschreibung — Sicherheitsdienst in der Außenstelle Christian-Griesbach-Hau
DESCRIPTION:Phase: Ausschreibung | Beschreibung: Angebote werden eingeholt | Link: https://ausschreibungsradar.com/ausschreibung/b151c3c6-e101-40ff-b2fe-e9c1c4894b30/
URL:https://ausschreibungsradar.com/ausschreibung/b151c3c6-e101-40ff-b2fe-e9c1c4894b30/
END:VEVENT
BEGIN:VEVENT
UID:a8404f9e57f9387a@ausschreibungsradar.com
DTSTAMP:20260425T151435Z
DTSTART;VALUE=DATE:20260109
DTEND;VALUE=DATE:20260109
SUMMARY:Ausschreibung — Sicherheitsdienst in der Außenstelle Christian-Griesbach-Hau
DESCRIPTION:Phase: Ausschreibung | Beschreibung: Offizielle Ausschreibung mit Bieterfrist. | Link: https://ausschreibungsradar.com/ausschreibung/105de1d1-6247-4cb9-9322-58d11d00eb24/
URL:https://ausschreibungsradar.com/ausschreibung/105de1d1-6247-4cb9-9322-58d11d00eb24/
END:VEVENT
BEGIN:VEVENT
UID:a58c860373f115a9@ausschreibungsradar.com
DTSTAMP:20260425T151435Z
DTSTART;VALUE=DATE:20260226
DTEND;VALUE=DATE:20260226
SUMMARY:Vergabeergebnis — Sicherheitsdienst in der Außenstelle Christian-Griesbach-Hau
DESCRIPTION:Phase: Vergabeergebnis | Beschreibung: Sonstige Gründe | Link: https://ausschreibungsradar.com/ausschreibung/c1e838f8-007a-405a-92f3-b6dc5a8fd53c/
URL:https://ausschreibungsradar.com/ausschreibung/c1e838f8-007a-405a-92f3-b6dc5a8fd53c/
END:VEVENT
END:VCALENDAR
