BEGIN:VCALENDAR
VERSION:2.0
PRODID:-//AusschreibungsRadar//Timeline//DE
CALSCALE:GREGORIAN
METHOD:PUBLISH
X-WR-CALNAME:Projekt Neubau Ausstellungshaus „Welt der Versuchungen“, Erfurt, 
Pr
X-WR-TIMEZONE:Europe/Berlin
BEGIN:VEVENT
UID:0b536420dc131878@ausschreibungsradar.com
DTSTAMP:20260425T175713Z
DTSTART;VALUE=DATE:20250831
DTEND;VALUE=DATE:20250831
SUMMARY:Ausschreibung — Neubau Ausstellungshaus „Welt der Versuchungen“\, Erfurt\, \nPr
DESCRIPTION:Phase: Ausschreibung | Beschreibung: Angebote werden eingeholt | Link: https://ausschreibungsradar.com/ausschreibung/5cfd9242-f7e0-43a2-a094-02bc2805f6c5/
URL:https://ausschreibungsradar.com/ausschreibung/5cfd9242-f7e0-43a2-a094-02bc2805f6c5/
END:VEVENT
BEGIN:VEVENT
UID:21e504c754bea844@ausschreibungsradar.com
DTSTAMP:20260425T175713Z
DTSTART;VALUE=DATE:20260122
DTEND;VALUE=DATE:20260122
SUMMARY:Vergabeergebnis — Neubau Ausstellungshaus „Welt der Versuchungen“\, Erfurt\, \nPr
DESCRIPTION:Phase: Vergabeergebnis | Beschreibung: Auftrag wurde zugeschlagen | Link: https://ausschreibungsradar.com/ausschreibung/b1a2969b-3950-41c8-adda-22a9e2b3c8e9/ | Auftragnehmer: Diederichs Projektmanagem
URL:https://ausschreibungsradar.com/ausschreibung/b1a2969b-3950-41c8-adda-22a9e2b3c8e9/
END:VEVENT
END:VCALENDAR
