BEGIN:VCALENDAR
VERSION:2.0
PRODID:-//AusschreibungsRadar//Timeline//DE
CALSCALE:GREGORIAN
METHOD:PUBLISH
X-WR-CALNAME:Projekt Rahmenvereinbarung Büroeinrichtung
X-WR-TIMEZONE:Europe/Berlin
BEGIN:VEVENT
UID:65c99c01d8b4d5ae@ausschreibungsradar.com
DTSTAMP:20260424T120526Z
DTSTART;VALUE=DATE:20250930
DTEND;VALUE=DATE:20250930
SUMMARY:Angebotsfrist — Rahmenvereinbarung Büroeinrichtung
DESCRIPTION:Phase: Ausschreibung | Beschreibung: Angebote werden eingeholt | Link: https://ausschreibungsradar.com/ausschreibung/b1fe21d3-e4b1-4f63-91f4-47cf2429c3ca/
URL:https://ausschreibungsradar.com/ausschreibung/b1fe21d3-e4b1-4f63-91f4-47cf2429c3ca/
END:VEVENT
BEGIN:VEVENT
UID:a703118e6430426f@ausschreibungsradar.com
DTSTAMP:20260424T120526Z
DTSTART;VALUE=DATE:20251201
DTEND;VALUE=DATE:20251201
SUMMARY:Vergabeergebnis — Rahmenvereinbarung Büroeinrichtung
DESCRIPTION:Phase: Vergabeergebnis | Beschreibung: Auftrag wurde zugeschlagen | Link: https://ausschreibungsradar.com/ausschreibung/29afef15-8ae9-4e8a-8971-7bd346eb7508/
URL:https://ausschreibungsradar.com/ausschreibung/29afef15-8ae9-4e8a-8971-7bd346eb7508/
END:VEVENT
END:VCALENDAR
