BEGIN:VCALENDAR
VERSION:2.0
PRODID:-//AusschreibungsRadar//Timeline//DE
CALSCALE:GREGORIAN
METHOD:PUBLISH
X-WR-CALNAME:Projekt ZV - Rödental - Generalsanierung Rathaus - Sanitärinstallati
X-WR-TIMEZONE:Europe/Berlin
BEGIN:VEVENT
UID:4950efd9550fd156@ausschreibungsradar.com
DTSTAMP:20260425T034437Z
DTSTART;VALUE=DATE:20260209
DTEND;VALUE=DATE:20260209
SUMMARY:Angebotsfrist — ZV - Rödental - Generalsanierung Rathaus - Sanitärinstallati
DESCRIPTION:Phase: Ausschreibung | Beschreibung: Angebote werden eingeholt | Link: https://ausschreibungsradar.com/ausschreibung/39b00f33-9162-49b7-9870-355d89b9726f/
URL:https://ausschreibungsradar.com/ausschreibung/39b00f33-9162-49b7-9870-355d89b9726f/
END:VEVENT
BEGIN:VEVENT
UID:cbdb2237a827daf3@ausschreibungsradar.com
DTSTAMP:20260425T034437Z
DTSTART;VALUE=DATE:20260420
DTEND;VALUE=DATE:20260420
SUMMARY:Vergabeergebnis — ZV - Rödental - Generalsanierung Rathaus - Sanitärinstallati
DESCRIPTION:Phase: Vergabeergebnis | Beschreibung: Auftrag wurde zugeschlagen | Link: https://ausschreibungsradar.com/ausschreibung/b230ffd0-c483-4300-bea2-9a3564cedf0a/
URL:https://ausschreibungsradar.com/ausschreibung/b230ffd0-c483-4300-bea2-9a3564cedf0a/
END:VEVENT
BEGIN:VEVENT
UID:8b9a31ee257047a6@ausschreibungsradar.com
DTSTAMP:20260425T034437Z
DTSTART;VALUE=DATE:20260421
DTEND;VALUE=DATE:20260421
SUMMARY:Zuschlag — ZV - Rödental - Generalsanierung Rathaus - Sanitärinstallati
DESCRIPTION:Phase: Zuschlag | Beschreibung: Vergabeergebnis — Auftrag wurde erteilt oder Verfahren beendet. | Link: https://ausschreibungsradar.com/ausschreibung/ted-271200-2026/
URL:https://ausschreibungsradar.com/ausschreibung/ted-271200-2026/
END:VEVENT
END:VCALENDAR
