BEGIN:VCALENDAR
VERSION:2.0
PRODID:-//AusschreibungsRadar//Timeline//DE
CALSCALE:GREGORIAN
METHOD:PUBLISH
X-WR-CALNAME:Projekt 1263/05 Security Operation Center as a Service
X-WR-TIMEZONE:Europe/Berlin
BEGIN:VEVENT
UID:6cece808f89c932b@ausschreibungsradar.com
DTSTAMP:20260423T233129Z
DTSTART;VALUE=DATE:20240729
DTEND;VALUE=DATE:20240729
SUMMARY:Ausschreibung — 1263/05 Security Operation Center as a Service
DESCRIPTION:Phase: Ausschreibung | Beschreibung: Angebote werden eingeholt | Link: https://ausschreibungsradar.com/ausschreibung/b2c5a456-b7c8-49ea-acd0-13b6451ce6d2/ | Geschätzter Wert: 203361 €
URL:https://ausschreibungsradar.com/ausschreibung/b2c5a456-b7c8-49ea-acd0-13b6451ce6d2/
END:VEVENT
BEGIN:VEVENT
UID:1efc1c7f811a1638@ausschreibungsradar.com
DTSTAMP:20260423T233129Z
DTSTART;VALUE=DATE:20240729
DTEND;VALUE=DATE:20240729
SUMMARY:Ausschreibung — 1263/05 Security Operation Center as a Service
DESCRIPTION:Phase: Ausschreibung | Beschreibung: Offizielle Ausschreibung mit Bieterfrist. | Link: https://ausschreibungsradar.com/ausschreibung/730bd655-2d8b-4018-8746-de774d2e35e0/
URL:https://ausschreibungsradar.com/ausschreibung/730bd655-2d8b-4018-8746-de774d2e35e0/
END:VEVENT
BEGIN:VEVENT
UID:93be0aa26eebf889@ausschreibungsradar.com
DTSTAMP:20260423T233129Z
DTSTART;VALUE=DATE:20240729
DTEND;VALUE=DATE:20240729
SUMMARY:Ausschreibung — 1263/05 Security Operation Center as a Service
DESCRIPTION:Phase: Ausschreibung | Beschreibung: Offizielle Ausschreibung mit Bieterfrist. | Link: https://ausschreibungsradar.com/ausschreibung/29119e32-7c57-47e4-adf2-4e507408d622/
URL:https://ausschreibungsradar.com/ausschreibung/29119e32-7c57-47e4-adf2-4e507408d622/
END:VEVENT
BEGIN:VEVENT
UID:87ddaae9e686fdb4@ausschreibungsradar.com
DTSTAMP:20260423T233129Z
DTSTART;VALUE=DATE:20241210
DTEND;VALUE=DATE:20241210
SUMMARY:Vergabeergebnis — 1263/05 Security Operation Center as a Service
DESCRIPTION:Phase: Vergabeergebnis | Beschreibung: Auftrag wurde zugeschlagen | Link: https://ausschreibungsradar.com/ausschreibung/0a3062f5-8f01-45e2-b0cf-2b24cd2e743e/ | Geschätzter Wert: 203361 €
URL:https://ausschreibungsradar.com/ausschreibung/0a3062f5-8f01-45e2-b0cf-2b24cd2e743e/
END:VEVENT
END:VCALENDAR
