BEGIN:VCALENDAR
VERSION:2.0
PRODID:-//AusschreibungsRadar//Timeline//DE
CALSCALE:GREGORIAN
METHOD:PUBLISH
X-WR-CALNAME:Projekt IGG Lübbenau/Spreewald - Rückbau Kohlebunker Los 13 Entsorgu
X-WR-TIMEZONE:Europe/Berlin
BEGIN:VEVENT
UID:2b745130508e6783@ausschreibungsradar.com
DTSTAMP:20260425T110152Z
DTSTART;VALUE=DATE:20260120
DTEND;VALUE=DATE:20260120
SUMMARY:Ausschreibung — IGG Lübbenau/Spreewald - Rückbau Kohlebunker Los 13 Entsorgu
DESCRIPTION:Phase: Ausschreibung | Beschreibung: Offizielle Ausschreibung mit Bieterfrist. | Link: https://ausschreibungsradar.com/ausschreibung/03f478e8-6fc2-48e7-8fcc-af734c6bbdac/
URL:https://ausschreibungsradar.com/ausschreibung/03f478e8-6fc2-48e7-8fcc-af734c6bbdac/
END:VEVENT
BEGIN:VEVENT
UID:3e63d5e2e832babb@ausschreibungsradar.com
DTSTAMP:20260425T110152Z
DTSTART;VALUE=DATE:20260303
DTEND;VALUE=DATE:20260303
SUMMARY:Angebotsfrist — IGG Lübbenau/Spreewald - Rückbau Kohlebunker Los 13 Entsorgu
DESCRIPTION:Phase: Ausschreibung | Beschreibung: Angebote werden eingeholt | Link: https://ausschreibungsradar.com/ausschreibung/b2cd8602-2004-4285-aa2a-d242740aa7ba/ | Geschätzter Wert: 809600 €
URL:https://ausschreibungsradar.com/ausschreibung/b2cd8602-2004-4285-aa2a-d242740aa7ba/
END:VEVENT
BEGIN:VEVENT
UID:406de30a0f7fc56f@ausschreibungsradar.com
DTSTAMP:20260425T110152Z
DTSTART;VALUE=DATE:20260128
DTEND;VALUE=DATE:20260128
SUMMARY:Zuschlag — IGG Lübbenau/Spreewald - Rückbau Kohlebunker Los 13 Entsorgu
DESCRIPTION:Phase: Zuschlag | Beschreibung: Vergabeergebnis — Auftrag wurde erteilt oder Verfahren beendet. | Link: https://ausschreibungsradar.com/ausschreibung/752a686e-6c4d-409c-b46c-8478c96f21ff/
URL:https://ausschreibungsradar.com/ausschreibung/752a686e-6c4d-409c-b46c-8478c96f21ff/
END:VEVENT
END:VCALENDAR
