BEGIN:VCALENDAR
VERSION:2.0
PRODID:-//AusschreibungsRadar//Timeline//DE
CALSCALE:GREGORIAN
METHOD:PUBLISH
X-WR-CALNAME:Projekt Aufnahme Technische Gebäudeausstattung (TGA)
X-WR-TIMEZONE:Europe/Berlin
BEGIN:VEVENT
UID:f3e868daf94c021c@ausschreibungsradar.com
DTSTAMP:20260424T164312Z
DTSTART;VALUE=DATE:20240212
DTEND;VALUE=DATE:20240212
SUMMARY:Angebotsfrist — Aufnahme Technische Gebäudeausstattung (TGA)
DESCRIPTION:Phase: Ausschreibung | Beschreibung: Angebote werden eingeholt | Link: https://ausschreibungsradar.com/ausschreibung/b2f268a7-8215-499e-9b0e-ca30fff54e00/
URL:https://ausschreibungsradar.com/ausschreibung/b2f268a7-8215-499e-9b0e-ca30fff54e00/
END:VEVENT
BEGIN:VEVENT
UID:c2935cbdeaaeb1d8@ausschreibungsradar.com
DTSTAMP:20260424T164312Z
DTSTART;VALUE=DATE:20231215
DTEND;VALUE=DATE:20231215
SUMMARY:Ausschreibung — Aufnahme Technische Gebäudeausstattung (TGA)
DESCRIPTION:Phase: Ausschreibung | Beschreibung: Offizielle Ausschreibung mit Bieterfrist. | Link: https://ausschreibungsradar.com/ausschreibung/0d666269-d00e-44d3-bf8c-2a86f6ccb3d2/
URL:https://ausschreibungsradar.com/ausschreibung/0d666269-d00e-44d3-bf8c-2a86f6ccb3d2/
END:VEVENT
BEGIN:VEVENT
UID:d99c24a4f42f7b4d@ausschreibungsradar.com
DTSTAMP:20260424T164312Z
DTSTART;VALUE=DATE:20231215
DTEND;VALUE=DATE:20231215
SUMMARY:Ausschreibung — Aufnahme Technische Gebäudeausstattung (TGA)
DESCRIPTION:Phase: Ausschreibung | Beschreibung: Offizielle Ausschreibung mit Bieterfrist. | Link: https://ausschreibungsradar.com/ausschreibung/760b7cad-4ec7-4aed-b75a-4758b6facba5/
URL:https://ausschreibungsradar.com/ausschreibung/760b7cad-4ec7-4aed-b75a-4758b6facba5/
END:VEVENT
BEGIN:VEVENT
UID:c9b5bfd742e9d0b9@ausschreibungsradar.com
DTSTAMP:20260424T164312Z
DTSTART;VALUE=DATE:20240228
DTEND;VALUE=DATE:20240228
SUMMARY:Vergabeergebnis — Aufnahme Technische Gebäudeausstattung (TGA)
DESCRIPTION:Phase: Vergabeergebnis | Beschreibung: Auftrag wurde zugeschlagen | Link: https://ausschreibungsradar.com/ausschreibung/ebe6b951-32db-4a6d-8c43-22904c708d8a/
URL:https://ausschreibungsradar.com/ausschreibung/ebe6b951-32db-4a6d-8c43-22904c708d8a/
END:VEVENT
END:VCALENDAR
