BEGIN:VCALENDAR
VERSION:2.0
PRODID:-//AusschreibungsRadar//Timeline//DE
CALSCALE:GREGORIAN
METHOD:PUBLISH
X-WR-CALNAME:Projekt Lieferung einer Drehleiter (DLK) 
X-WR-TIMEZONE:Europe/Berlin
BEGIN:VEVENT
UID:15e014e181b8d03d@ausschreibungsradar.com
DTSTAMP:20260424T003400Z
DTSTART;VALUE=DATE:20251219
DTEND;VALUE=DATE:20251219
SUMMARY:Ausschreibung — Lieferung einer Drehleiter (DLK) 
DESCRIPTION:Phase: Ausschreibung | Beschreibung: Angebote werden eingeholt | Link: https://ausschreibungsradar.com/ausschreibung/b31d0455-d64a-4aa9-b0df-12004a8764bd/
URL:https://ausschreibungsradar.com/ausschreibung/b31d0455-d64a-4aa9-b0df-12004a8764bd/
END:VEVENT
BEGIN:VEVENT
UID:f98b87d63d353f2e@ausschreibungsradar.com
DTSTAMP:20260424T003400Z
DTSTART;VALUE=DATE:20251219
DTEND;VALUE=DATE:20251219
SUMMARY:Ausschreibung — Lieferung einer Drehleiter (DLK) 
DESCRIPTION:Phase: Ausschreibung | Beschreibung: Offizielle Ausschreibung mit Bieterfrist. | Link: https://ausschreibungsradar.com/ausschreibung/36c7a489-316f-49b8-aef7-8d0dc7dd8089/
URL:https://ausschreibungsradar.com/ausschreibung/36c7a489-316f-49b8-aef7-8d0dc7dd8089/
END:VEVENT
BEGIN:VEVENT
UID:f7f1c8b02b682ce0@ausschreibungsradar.com
DTSTAMP:20260424T003400Z
DTSTART;VALUE=DATE:20251219
DTEND;VALUE=DATE:20251219
SUMMARY:Ausschreibung — Lieferung einer Drehleiter (DLK) 
DESCRIPTION:Phase: Ausschreibung | Beschreibung: Offizielle Ausschreibung mit Bieterfrist. | Link: https://ausschreibungsradar.com/ausschreibung/a1b109e0-24bc-4db3-a829-d7a330297865/
URL:https://ausschreibungsradar.com/ausschreibung/a1b109e0-24bc-4db3-a829-d7a330297865/
END:VEVENT
BEGIN:VEVENT
UID:09e9b65c1d327160@ausschreibungsradar.com
DTSTAMP:20260424T003400Z
DTSTART;VALUE=DATE:20260324
DTEND;VALUE=DATE:20260324
SUMMARY:Vergabeergebnis — Lieferung einer Drehleiter (DLK) 
DESCRIPTION:Phase: Vergabeergebnis | Beschreibung: Auftrag wurde zugeschlagen | Link: https://ausschreibungsradar.com/ausschreibung/a5044fb3-e500-4807-b90a-7dfee3354239/
URL:https://ausschreibungsradar.com/ausschreibung/a5044fb3-e500-4807-b90a-7dfee3354239/
END:VEVENT
END:VCALENDAR
