BEGIN:VCALENDAR
VERSION:2.0
PRODID:-//AusschreibungsRadar//Timeline//DE
CALSCALE:GREGORIAN
METHOD:PUBLISH
X-WR-CALNAME:Projekt Ultraschallsystem für die interoperative Bildgebung
X-WR-TIMEZONE:Europe/Berlin
BEGIN:VEVENT
UID:ff4902e0823ef3d0@ausschreibungsradar.com
DTSTAMP:20260424T170422Z
DTSTART;VALUE=DATE:20250603
DTEND;VALUE=DATE:20250603
SUMMARY:Direktvergabe-Ankündigung — Ultraschallsystem für die interoperative Bildgebung
DESCRIPTION:Phase: Direktvergabe-Ankündigung | Beschreibung: Geplante Direktvergabe (VEAT) — 10 Tage Stillhaltefrist | Link: https://ausschreibungsradar.com/ausschreibung/80a39c58-ea49-4b0b-ac63-b07741f11b68/
URL:https://ausschreibungsradar.com/ausschreibung/80a39c58-ea49-4b0b-ac63-b07741f11b68/
END:VEVENT
BEGIN:VEVENT
UID:4c86e1daf2233050@ausschreibungsradar.com
DTSTAMP:20260424T170422Z
DTSTART;VALUE=DATE:20250624
DTEND;VALUE=DATE:20250624
SUMMARY:Vergabeergebnis — Ultraschallsystem für die interoperative Bildgebung
DESCRIPTION:Phase: Vergabeergebnis | Beschreibung: Auftrag wurde zugeschlagen | Link: https://ausschreibungsradar.com/ausschreibung/b39d09dd-cd65-44e7-a55d-bf86b1477923/
URL:https://ausschreibungsradar.com/ausschreibung/b39d09dd-cd65-44e7-a55d-bf86b1477923/
END:VEVENT
END:VCALENDAR
