BEGIN:VCALENDAR
VERSION:2.0
PRODID:-//AusschreibungsRadar//Timeline//DE
CALSCALE:GREGORIAN
METHOD:PUBLISH
X-WR-CALNAME:Projekt techn. und jur. Beratungsleistung (Gigabit-RL Bund 2.0)_BL 2
X-WR-TIMEZONE:Europe/Berlin
BEGIN:VEVENT
UID:79c9f45c48af97cc@ausschreibungsradar.com
DTSTAMP:20260425T194453Z
DTSTART;VALUE=DATE:20250127
DTEND;VALUE=DATE:20250127
SUMMARY:Angebotsfrist — techn. und jur. Beratungsleistung (Gigabit-RL Bund 2.0)_BL 2
DESCRIPTION:Phase: Ausschreibung | Beschreibung: Angebote werden eingeholt | Link: https://ausschreibungsradar.com/ausschreibung/b3adcf69-b321-4c7e-8648-b2aa1b132640/
URL:https://ausschreibungsradar.com/ausschreibung/b3adcf69-b321-4c7e-8648-b2aa1b132640/
END:VEVENT
BEGIN:VEVENT
UID:6014d886be1e6deb@ausschreibungsradar.com
DTSTAMP:20260425T194453Z
DTSTART;VALUE=DATE:20241218
DTEND;VALUE=DATE:20241218
SUMMARY:Ausschreibung — techn. und jur. Beratungsleistung (Gigabit-RL Bund 2.0)_BL 2
DESCRIPTION:Phase: Ausschreibung | Beschreibung: Offizielle Ausschreibung mit Bieterfrist. | Link: https://ausschreibungsradar.com/ausschreibung/df4c889f-3fd3-4d24-af8b-7a498510c088/
URL:https://ausschreibungsradar.com/ausschreibung/df4c889f-3fd3-4d24-af8b-7a498510c088/
END:VEVENT
BEGIN:VEVENT
UID:daaac70d0a13d6bd@ausschreibungsradar.com
DTSTAMP:20260425T194453Z
DTSTART;VALUE=DATE:20251125
DTEND;VALUE=DATE:20251125
SUMMARY:Vergabeergebnis — techn. und jur. Beratungsleistung (Gigabit-RL Bund 2.0)_BL 2
DESCRIPTION:Phase: Vergabeergebnis | Beschreibung: Auftrag wurde zugeschlagen | Link: https://ausschreibungsradar.com/ausschreibung/e4e24f68-7fd5-424d-96b0-f9574d4274ea/
URL:https://ausschreibungsradar.com/ausschreibung/e4e24f68-7fd5-424d-96b0-f9574d4274ea/
END:VEVENT
END:VCALENDAR
