BEGIN:VCALENDAR
VERSION:2.0
PRODID:-//AusschreibungsRadar//Timeline//DE
CALSCALE:GREGORIAN
METHOD:PUBLISH
X-WR-CALNAME:Projekt VE 307 - Baumeisterarbeiten - Studentenwohnheim 08056 Zwicka
X-WR-TIMEZONE:Europe/Berlin
BEGIN:VEVENT
UID:78aacd67a77468a7@ausschreibungsradar.com
DTSTAMP:20260424T042921Z
DTSTART;VALUE=DATE:20250327
DTEND;VALUE=DATE:20250327
SUMMARY:Ausschreibung — VE 307 - Baumeisterarbeiten - Studentenwohnheim 08056 Zwicka
DESCRIPTION:Phase: Ausschreibung | Beschreibung: Angebote werden eingeholt | Link: https://ausschreibungsradar.com/ausschreibung/b48bc832-aea7-46a7-b1fa-5dcbea31ed0f/
URL:https://ausschreibungsradar.com/ausschreibung/b48bc832-aea7-46a7-b1fa-5dcbea31ed0f/
END:VEVENT
BEGIN:VEVENT
UID:7ff20e21655ff449@ausschreibungsradar.com
DTSTAMP:20260424T042921Z
DTSTART;VALUE=DATE:20250626
DTEND;VALUE=DATE:20250626
SUMMARY:Vergabeergebnis — VE 307 - Baumeisterarbeiten - Studentenwohnheim 08056 Zwicka
DESCRIPTION:Phase: Vergabeergebnis | Beschreibung: Auftrag wurde zugeschlagen | Link: https://ausschreibungsradar.com/ausschreibung/69da6b8e-4e90-4971-8e67-f3741e94359e/
URL:https://ausschreibungsradar.com/ausschreibung/69da6b8e-4e90-4971-8e67-f3741e94359e/
END:VEVENT
END:VCALENDAR
