BEGIN:VCALENDAR
VERSION:2.0
PRODID:-//AusschreibungsRadar//Timeline//DE
CALSCALE:GREGORIAN
METHOD:PUBLISH
X-WR-CALNAME:Projekt Ausschreibung Erdgaslieferung Kreis Warendorf und Kommunen 2
X-WR-TIMEZONE:Europe/Berlin
BEGIN:VEVENT
UID:36dafa8a79c6a1a8@ausschreibungsradar.com
DTSTAMP:20260425T180843Z
DTSTART;VALUE=DATE:20240506
DTEND;VALUE=DATE:20240506
SUMMARY:Ausschreibung — Ausschreibung Erdgaslieferung Kreis Warendorf und Kommunen 2
DESCRIPTION:Phase: Ausschreibung | Beschreibung: Offizielle Ausschreibung mit Bieterfrist. | Link: https://ausschreibungsradar.com/ausschreibung/b513f66c-361b-47b0-9f79-800ffa643cbd/ | Geschätzter Wert: 899288 €
URL:https://ausschreibungsradar.com/ausschreibung/b513f66c-361b-47b0-9f79-800ffa643cbd/
END:VEVENT
BEGIN:VEVENT
UID:77d7b6060d69a4ce@ausschreibungsradar.com
DTSTAMP:20260425T180843Z
DTSTART;VALUE=DATE:20240508
DTEND;VALUE=DATE:20240508
SUMMARY:Ausschreibung — Ausschreibung Erdgaslieferung Kreis Warendorf und Kommunen 2
DESCRIPTION:Phase: Ausschreibung | Beschreibung: Offizielle Ausschreibung mit Bieterfrist. | Link: https://ausschreibungsradar.com/ausschreibung/ted-272967-2024/
URL:https://ausschreibungsradar.com/ausschreibung/ted-272967-2024/
END:VEVENT
END:VCALENDAR
