BEGIN:VCALENDAR
VERSION:2.0
PRODID:-//AusschreibungsRadar//Timeline//DE
CALSCALE:GREGORIAN
METHOD:PUBLISH
X-WR-CALNAME:Projekt Turmhaube_NEU
X-WR-TIMEZONE:Europe/Berlin
BEGIN:VEVENT
UID:5583a05b08febb6f@ausschreibungsradar.com
DTSTAMP:20260426T004808Z
DTSTART;VALUE=DATE:20240619
DTEND;VALUE=DATE:20240619
SUMMARY:Angebotsfrist — Turmhaube_NEU
DESCRIPTION:Phase: Ausschreibung | Beschreibung: Angebote werden eingeholt | Link: https://ausschreibungsradar.com/ausschreibung/b568d28a-ad25-4871-bcfe-27b8d47b6e9f/
URL:https://ausschreibungsradar.com/ausschreibung/b568d28a-ad25-4871-bcfe-27b8d47b6e9f/
END:VEVENT
BEGIN:VEVENT
UID:f3a57f47f407f08a@ausschreibungsradar.com
DTSTAMP:20260426T004808Z
DTSTART;VALUE=DATE:20240521
DTEND;VALUE=DATE:20240521
SUMMARY:Ausschreibung — Turmhaube_NEU
DESCRIPTION:Phase: Ausschreibung | Beschreibung: Offizielle Ausschreibung mit Bieterfrist. | Link: https://ausschreibungsradar.com/ausschreibung/ted-294723-2024/
URL:https://ausschreibungsradar.com/ausschreibung/ted-294723-2024/
END:VEVENT
BEGIN:VEVENT
UID:12a6e65709c62035@ausschreibungsradar.com
DTSTAMP:20260426T004808Z
DTSTART;VALUE=DATE:20250123
DTEND;VALUE=DATE:20250123
SUMMARY:Vergabeergebnis — Turmhaube_NEU
DESCRIPTION:Phase: Vergabeergebnis | Beschreibung: Auftrag wurde zugeschlagen | Link: https://ausschreibungsradar.com/ausschreibung/d5b7e1c2-8965-4ad9-ac53-31487987f9e7/
URL:https://ausschreibungsradar.com/ausschreibung/d5b7e1c2-8965-4ad9-ac53-31487987f9e7/
END:VEVENT
END:VCALENDAR
