BEGIN:VCALENDAR
VERSION:2.0
PRODID:-//AusschreibungsRadar//Timeline//DE
CALSCALE:GREGORIAN
METHOD:PUBLISH
X-WR-CALNAME:Projekt Abschlusses eines nicht-exkl. Rabattvertrags nach § 130a Abs
X-WR-TIMEZONE:Europe/Berlin
BEGIN:VEVENT
UID:d18d15ce645c24d0@ausschreibungsradar.com
DTSTAMP:20260424T062542Z
DTSTART;VALUE=DATE:20251020
DTEND;VALUE=DATE:20251020
SUMMARY:Ausschreibung — Abschlusses eines nicht-exkl. Rabattvertrags nach § 130a Abs
DESCRIPTION:Phase: Ausschreibung | Beschreibung: Offizielle Ausschreibung mit Bieterfrist. | Link: https://ausschreibungsradar.com/ausschreibung/906c8660-f00c-49f0-bc3e-e22c4af31525/
URL:https://ausschreibungsradar.com/ausschreibung/906c8660-f00c-49f0-bc3e-e22c4af31525/
END:VEVENT
BEGIN:VEVENT
UID:cdd5c4a6fe285dcb@ausschreibungsradar.com
DTSTAMP:20260424T062542Z
DTSTART;VALUE=DATE:20251206
DTEND;VALUE=DATE:20251206
SUMMARY:Angebotsfrist — Abschlusses eines nicht-exkl. Rabattvertrags nach § 130a Abs
DESCRIPTION:Phase: Ausschreibung | Beschreibung: Angebote werden eingeholt | Link: https://ausschreibungsradar.com/ausschreibung/b59018db-3cc2-4820-b41d-2b1413065cde/
URL:https://ausschreibungsradar.com/ausschreibung/b59018db-3cc2-4820-b41d-2b1413065cde/
END:VEVENT
END:VCALENDAR
