BEGIN:VCALENDAR
VERSION:2.0
PRODID:-//AusschreibungsRadar//Timeline//DE
CALSCALE:GREGORIAN
METHOD:PUBLISH
X-WR-CALNAME:Projekt Sanierung und Erweiterung Erlebnisbad Senftenberg - Los 4: B
X-WR-TIMEZONE:Europe/Berlin
BEGIN:VEVENT
UID:ec64584d365b5c38@ausschreibungsradar.com
DTSTAMP:20260425T181453Z
DTSTART;VALUE=DATE:20250904
DTEND;VALUE=DATE:20250904
SUMMARY:Zuschlag — Sanierung und Erweiterung Erlebnisbad Senftenberg - Los 4: B
DESCRIPTION:Phase: Zuschlag | Beschreibung: Vergabeergebnis — Auftrag wurde erteilt oder Verfahren beendet. | Link: https://ausschreibungsradar.com/ausschreibung/22380473-dc72-4c93-a4da-365774705b0d/
URL:https://ausschreibungsradar.com/ausschreibung/22380473-dc72-4c93-a4da-365774705b0d/
END:VEVENT
BEGIN:VEVENT
UID:fb392a1fd3f767de@ausschreibungsradar.com
DTSTAMP:20260425T181453Z
DTSTART;VALUE=DATE:20251009
DTEND;VALUE=DATE:20251009
SUMMARY:Angebotsfrist — Sanierung und Erweiterung Erlebnisbad Senftenberg - Los 4: B
DESCRIPTION:Phase: Ausschreibung | Beschreibung: Angebote werden eingeholt | Link: https://ausschreibungsradar.com/ausschreibung/b6c60e99-61e9-442b-a7c1-b7ce528ee053/
URL:https://ausschreibungsradar.com/ausschreibung/b6c60e99-61e9-442b-a7c1-b7ce528ee053/
END:VEVENT
BEGIN:VEVENT
UID:a01a2ad7dc873c05@ausschreibungsradar.com
DTSTAMP:20260425T181453Z
DTSTART;VALUE=DATE:20250926
DTEND;VALUE=DATE:20250926
SUMMARY:Ausschreibung — Sanierung und Erweiterung Erlebnisbad Senftenberg - Los 4: B
DESCRIPTION:Phase: Ausschreibung | Beschreibung: Offizielle Ausschreibung mit Bieterfrist. | Link: https://ausschreibungsradar.com/ausschreibung/9077f8d1-268e-4822-a48f-4dbe917c3c9a/
URL:https://ausschreibungsradar.com/ausschreibung/9077f8d1-268e-4822-a48f-4dbe917c3c9a/
END:VEVENT
BEGIN:VEVENT
UID:1e477df3cf024a10@ausschreibungsradar.com
DTSTAMP:20260425T181453Z
DTSTART;VALUE=DATE:20251217
DTEND;VALUE=DATE:20251217
SUMMARY:Vergabeergebnis — Sanierung und Erweiterung Erlebnisbad Senftenberg - Los 4: B
DESCRIPTION:Phase: Vergabeergebnis | Beschreibung: Auftrag wurde zugeschlagen | Link: https://ausschreibungsradar.com/ausschreibung/6e7b34c4-7cb0-42d6-b1d0-23939026381d/
URL:https://ausschreibungsradar.com/ausschreibung/6e7b34c4-7cb0-42d6-b1d0-23939026381d/
END:VEVENT
END:VCALENDAR
