BEGIN:VCALENDAR
VERSION:2.0
PRODID:-//AusschreibungsRadar//Timeline//DE
CALSCALE:GREGORIAN
METHOD:PUBLISH
X-WR-CALNAME:Projekt 5. Erweiterung Gewerbegebiet Klipphausen 2. BA
X-WR-TIMEZONE:Europe/Berlin
BEGIN:VEVENT
UID:0684d01caf2ff9af@ausschreibungsradar.com
DTSTAMP:20260424T122845Z
DTSTART;VALUE=DATE:20251210
DTEND;VALUE=DATE:20251210
SUMMARY:Ausschreibung — 5. Erweiterung Gewerbegebiet Klipphausen 2. BA
DESCRIPTION:Phase: Ausschreibung | Beschreibung: Offizielle Ausschreibung mit Bieterfrist. | Link: https://ausschreibungsradar.com/ausschreibung/24759094/
URL:https://ausschreibungsradar.com/ausschreibung/24759094/
END:VEVENT
BEGIN:VEVENT
UID:c3da6ba5793d9258@ausschreibungsradar.com
DTSTAMP:20260424T122845Z
DTSTART;VALUE=DATE:20260203
DTEND;VALUE=DATE:20260203
SUMMARY:Angebotsfrist — 5. Erweiterung Gewerbegebiet Klipphausen 2. BA
DESCRIPTION:Phase: Ausschreibung | Beschreibung: Angebote werden eingeholt | Link: https://ausschreibungsradar.com/ausschreibung/b6ee6169-2d16-40a2-9db6-b3121453d2e6/
URL:https://ausschreibungsradar.com/ausschreibung/b6ee6169-2d16-40a2-9db6-b3121453d2e6/
END:VEVENT
BEGIN:VEVENT
UID:1e0b5049be11ca90@ausschreibungsradar.com
DTSTAMP:20260424T122845Z
DTSTART;VALUE=DATE:20260305
DTEND;VALUE=DATE:20260305
SUMMARY:Vergabeergebnis — 5. Erweiterung Gewerbegebiet Klipphausen 2. BA
DESCRIPTION:Phase: Vergabeergebnis | Beschreibung: Auftrag wurde zugeschlagen | Link: https://ausschreibungsradar.com/ausschreibung/c08e13fd-20f1-48c5-83c6-500a239b66da/
URL:https://ausschreibungsradar.com/ausschreibung/c08e13fd-20f1-48c5-83c6-500a239b66da/
END:VEVENT
END:VCALENDAR
