BEGIN:VCALENDAR
VERSION:2.0
PRODID:-//AusschreibungsRadar//Timeline//DE
CALSCALE:GREGORIAN
METHOD:PUBLISH
X-WR-CALNAME:Projekt Objektplanung Verkehrsanlagen und Ingenieurbauwerke - Erschl
X-WR-TIMEZONE:Europe/Berlin
BEGIN:VEVENT
UID:45eab9aeb3ba65df@ausschreibungsradar.com
DTSTAMP:20260424T054836Z
DTSTART;VALUE=DATE:20260205
DTEND;VALUE=DATE:20260205
SUMMARY:Ausschreibung — Objektplanung Verkehrsanlagen und Ingenieurbauwerke - Erschl
DESCRIPTION:Phase: Ausschreibung | Beschreibung: Offizielle Ausschreibung mit Bieterfrist. | Link: https://ausschreibungsradar.com/ausschreibung/76c0521e-49c0-4e4a-aa46-660a15edb2fa/
URL:https://ausschreibungsradar.com/ausschreibung/76c0521e-49c0-4e4a-aa46-660a15edb2fa/
END:VEVENT
BEGIN:VEVENT
UID:65df14cdd84de4f8@ausschreibungsradar.com
DTSTAMP:20260424T054836Z
DTSTART;VALUE=DATE:20260210
DTEND;VALUE=DATE:20260210
SUMMARY:Ausschreibung — Objektplanung Verkehrsanlagen und Ingenieurbauwerke - Erschl
DESCRIPTION:Phase: Ausschreibung | Beschreibung: Offizielle Ausschreibung mit Bieterfrist. | Link: https://ausschreibungsradar.com/ausschreibung/b732bfb4-99cc-4cb8-b701-649805a2d477/
URL:https://ausschreibungsradar.com/ausschreibung/b732bfb4-99cc-4cb8-b701-649805a2d477/
END:VEVENT
END:VCALENDAR
