BEGIN:VCALENDAR
VERSION:2.0
PRODID:-//AusschreibungsRadar//Timeline//DE
CALSCALE:GREGORIAN
METHOD:PUBLISH
X-WR-CALNAME:Projekt Sanierung Halle Am Wirt in Diez - Los 04
X-WR-TIMEZONE:Europe/Berlin
BEGIN:VEVENT
UID:dd66a7f6c393f9a1@ausschreibungsradar.com
DTSTAMP:20260425T234010Z
DTSTART;VALUE=DATE:20250304
DTEND;VALUE=DATE:20250304
SUMMARY:Angebotsfrist — Sanierung Halle Am Wirt in Diez - Los 04
DESCRIPTION:Phase: Ausschreibung | Beschreibung: Angebote werden eingeholt | Link: https://ausschreibungsradar.com/ausschreibung/3d04c612-9865-46ec-8eb8-d40f07f8f8b5/
URL:https://ausschreibungsradar.com/ausschreibung/3d04c612-9865-46ec-8eb8-d40f07f8f8b5/
END:VEVENT
BEGIN:VEVENT
UID:cf17f60a0cd1def2@ausschreibungsradar.com
DTSTAMP:20260425T234010Z
DTSTART;VALUE=DATE:20250317
DTEND;VALUE=DATE:20250317
SUMMARY:Zuschlag — Sanierung Halle Am Wirt in Diez - Los 04
DESCRIPTION:Phase: Zuschlag | Beschreibung: Vergabeergebnis — Auftrag wurde erteilt oder Verfahren beendet. | Link: https://ausschreibungsradar.com/ausschreibung/3d85aaef-63d1-4e6a-940e-15ac57d836ae/
URL:https://ausschreibungsradar.com/ausschreibung/3d85aaef-63d1-4e6a-940e-15ac57d836ae/
END:VEVENT
BEGIN:VEVENT
UID:4df7bb4c76648579@ausschreibungsradar.com
DTSTAMP:20260425T234010Z
DTSTART;VALUE=DATE:20250318
DTEND;VALUE=DATE:20250318
SUMMARY:Ausschreibung — Sanierung Halle Am Wirt in Diez - Los 04
DESCRIPTION:Phase: Ausschreibung | Beschreibung: Offizielle Ausschreibung mit Bieterfrist. | Link: https://ausschreibungsradar.com/ausschreibung/d5a45803-43f6-4a22-8520-fa02c44e6d0b/
URL:https://ausschreibungsradar.com/ausschreibung/d5a45803-43f6-4a22-8520-fa02c44e6d0b/
END:VEVENT
BEGIN:VEVENT
UID:2093e2dde8b5f718@ausschreibungsradar.com
DTSTAMP:20260425T234010Z
DTSTART;VALUE=DATE:20250402
DTEND;VALUE=DATE:20250402
SUMMARY:Vergabeergebnis — Sanierung Halle Am Wirt in Diez - Los 04
DESCRIPTION:Phase: Vergabeergebnis | Beschreibung: Auftrag wurde zugeschlagen | Link: https://ausschreibungsradar.com/ausschreibung/b8096827-5d1a-4ed7-b266-e2c11d3170cb/
URL:https://ausschreibungsradar.com/ausschreibung/b8096827-5d1a-4ed7-b266-e2c11d3170cb/
END:VEVENT
END:VCALENDAR
