BEGIN:VCALENDAR
VERSION:2.0
PRODID:-//AusschreibungsRadar//Timeline//DE
CALSCALE:GREGORIAN
METHOD:PUBLISH
X-WR-CALNAME:Projekt 470 BSGM - Neubau Bgm. Schütte Grundschule Partenkirchen (BA
X-WR-TIMEZONE:Europe/Berlin
BEGIN:VEVENT
UID:838f0c234387aa37@ausschreibungsradar.com
DTSTAMP:20260425T232629Z
DTSTART;VALUE=DATE:20250506
DTEND;VALUE=DATE:20250506
SUMMARY:Angebotsfrist — 470 BSGM - Neubau Bgm. Schütte Grundschule Partenkirchen (BA
DESCRIPTION:Phase: Ausschreibung | Beschreibung: Angebote werden eingeholt | Link: https://ausschreibungsradar.com/ausschreibung/149c3ec6-bea0-4e7a-bfe4-c2bf1ba31bb7/
URL:https://ausschreibungsradar.com/ausschreibung/149c3ec6-bea0-4e7a-bfe4-c2bf1ba31bb7/
END:VEVENT
BEGIN:VEVENT
UID:c9d8f87d1a421a29@ausschreibungsradar.com
DTSTAMP:20260425T232629Z
DTSTART;VALUE=DATE:20250702
DTEND;VALUE=DATE:20250702
SUMMARY:Zuschlag — 470 BSGM - Neubau Bgm. Schütte Grundschule Partenkirchen (BA
DESCRIPTION:Phase: Zuschlag | Beschreibung: Vergabeergebnis — Auftrag wurde erteilt oder Verfahren beendet. | Link: https://ausschreibungsradar.com/ausschreibung/5f1633ab-0fd8-4e84-8eed-f1a6eebb572d/
URL:https://ausschreibungsradar.com/ausschreibung/5f1633ab-0fd8-4e84-8eed-f1a6eebb572d/
END:VEVENT
BEGIN:VEVENT
UID:517b60552afba16b@ausschreibungsradar.com
DTSTAMP:20260425T232629Z
DTSTART;VALUE=DATE:20250709
DTEND;VALUE=DATE:20250709
SUMMARY:Vergabeergebnis — 470 BSGM - Neubau Bgm. Schütte Grundschule Partenkirchen (BA
DESCRIPTION:Phase: Vergabeergebnis | Beschreibung: Auftrag wurde zugeschlagen | Link: https://ausschreibungsradar.com/ausschreibung/b874c463-8b10-4103-bb26-e14136954819/
URL:https://ausschreibungsradar.com/ausschreibung/b874c463-8b10-4103-bb26-e14136954819/
END:VEVENT
BEGIN:VEVENT
UID:830f34c06af6eeba@ausschreibungsradar.com
DTSTAMP:20260425T232629Z
DTSTART;VALUE=DATE:20250715
DTEND;VALUE=DATE:20250715
SUMMARY:Ausschreibung — 470 BSGM - Neubau Bgm. Schütte Grundschule Partenkirchen (BA
DESCRIPTION:Phase: Ausschreibung | Beschreibung: Offizielle Ausschreibung mit Bieterfrist. | Link: https://ausschreibungsradar.com/ausschreibung/2d9f790c-bb9b-4413-9332-82ad29f7842b/
URL:https://ausschreibungsradar.com/ausschreibung/2d9f790c-bb9b-4413-9332-82ad29f7842b/
END:VEVENT
END:VCALENDAR
