BEGIN:VCALENDAR
VERSION:2.0
PRODID:-//AusschreibungsRadar//Timeline//DE
CALSCALE:GREGORIAN
METHOD:PUBLISH
X-WR-CALNAME:Projekt Kyffhäuserburganlagen mit KWD, Neugestaltung der zentralen E
X-WR-TIMEZONE:Europe/Berlin
BEGIN:VEVENT
UID:13549bd5a1c65ded@ausschreibungsradar.com
DTSTAMP:20260424T091012Z
DTSTART;VALUE=DATE:20260327
DTEND;VALUE=DATE:20260327
SUMMARY:Angebotsfrist — Kyffhäuserburganlagen mit KWD\, Neugestaltung der zentralen E
DESCRIPTION:Phase: Ausschreibung | Beschreibung: Angebote werden eingeholt | Link: https://ausschreibungsradar.com/ausschreibung/cef8dcb9-e111-4a95-a600-44d392542252/
URL:https://ausschreibungsradar.com/ausschreibung/cef8dcb9-e111-4a95-a600-44d392542252/
END:VEVENT
BEGIN:VEVENT
UID:0a2d767e9712162a@ausschreibungsradar.com
DTSTAMP:20260424T091012Z
DTSTART;VALUE=DATE:20260325
DTEND;VALUE=DATE:20260325
SUMMARY:Zuschlag — Kyffhäuserburganlagen mit KWD\, Neugestaltung der zentralen E
DESCRIPTION:Phase: Zuschlag | Beschreibung: Vergabeergebnis — Auftrag wurde erteilt oder Verfahren beendet. | Link: https://ausschreibungsradar.com/ausschreibung/1b8b73ae-70f4-4116-9bbd-60689c8d3861/
URL:https://ausschreibungsradar.com/ausschreibung/1b8b73ae-70f4-4116-9bbd-60689c8d3861/
END:VEVENT
BEGIN:VEVENT
UID:f1d34dab52b867eb@ausschreibungsradar.com
DTSTAMP:20260424T091012Z
DTSTART;VALUE=DATE:20260419
DTEND;VALUE=DATE:20260419
SUMMARY:Zuschlag — Kyffhäuserburganlagen mit KWD\, Neugestaltung der zentralen E
DESCRIPTION:Phase: Zuschlag | Beschreibung: Vergabeergebnis — Auftrag wurde erteilt oder Verfahren beendet. | Link: https://ausschreibungsradar.com/ausschreibung/33bc4e75-4b8b-4af8-93f4-ed65df118258/
URL:https://ausschreibungsradar.com/ausschreibung/33bc4e75-4b8b-4af8-93f4-ed65df118258/
END:VEVENT
BEGIN:VEVENT
UID:601aa4de0b6f4b1b@ausschreibungsradar.com
DTSTAMP:20260424T091012Z
DTSTART;VALUE=DATE:20260421
DTEND;VALUE=DATE:20260421
SUMMARY:Vergabeergebnis — Kyffhäuserburganlagen mit KWD\, Neugestaltung der zentralen E
DESCRIPTION:Phase: Vergabeergebnis | Beschreibung: Auftrag wurde zugeschlagen | Link: https://ausschreibungsradar.com/ausschreibung/ba02dde5-8bb7-430f-839e-0bddb7cbe8eb/
URL:https://ausschreibungsradar.com/ausschreibung/ba02dde5-8bb7-430f-839e-0bddb7cbe8eb/
END:VEVENT
END:VCALENDAR
