BEGIN:VCALENDAR
VERSION:2.0
PRODID:-//AusschreibungsRadar//Timeline//DE
CALSCALE:GREGORIAN
METHOD:PUBLISH
X-WR-CALNAME:Projekt KHH Stadt Blankenberg - Gerüstarbeiten
X-WR-TIMEZONE:Europe/Berlin
BEGIN:VEVENT
UID:faee2a94560cc60d@ausschreibungsradar.com
DTSTAMP:20260426T024956Z
DTSTART;VALUE=DATE:20250812
DTEND;VALUE=DATE:20250812
SUMMARY:Angebotsfrist — KHH Stadt Blankenberg - Gerüstarbeiten
DESCRIPTION:Phase: Ausschreibung | Beschreibung: Angebote werden eingeholt | Link: https://ausschreibungsradar.com/ausschreibung/badf271f-b77f-4a60-9de2-650e960d84f6/
URL:https://ausschreibungsradar.com/ausschreibung/badf271f-b77f-4a60-9de2-650e960d84f6/
END:VEVENT
BEGIN:VEVENT
UID:9dfeefb2e8814dd0@ausschreibungsradar.com
DTSTAMP:20260426T024956Z
DTSTART;VALUE=DATE:20250908
DTEND;VALUE=DATE:20250908
SUMMARY:Vergabeergebnis — KHH Stadt Blankenberg - Gerüstarbeiten
DESCRIPTION:Phase: Vergabeergebnis | Beschreibung: Auftrag wurde zugeschlagen | Link: https://ausschreibungsradar.com/ausschreibung/05ecd6ef-2317-4530-881a-e520460db272/ | Geschätzter Wert: 55901 €
URL:https://ausschreibungsradar.com/ausschreibung/05ecd6ef-2317-4530-881a-e520460db272/
END:VEVENT
END:VCALENDAR
