BEGIN:VCALENDAR
VERSION:2.0
PRODID:-//AusschreibungsRadar//Timeline//DE
CALSCALE:GREGORIAN
METHOD:PUBLISH
X-WR-CALNAME:Projekt 25FEI80698 - Geldbearbeitung und -logistik für S-Bahn Berlin
X-WR-TIMEZONE:Europe/Berlin
BEGIN:VEVENT
UID:7adac4010918daa0@ausschreibungsradar.com
DTSTAMP:20260425T205832Z
DTSTART;VALUE=DATE:20250602
DTEND;VALUE=DATE:20250602
SUMMARY:Ausschreibung — 25FEI80698 - Geldbearbeitung und -logistik für S-Bahn Berlin
DESCRIPTION:Phase: Ausschreibung | Beschreibung: Angebote werden eingeholt | Link: https://ausschreibungsradar.com/ausschreibung/3aea9aa6-29e2-4b38-9f5a-87ea00a0099f/
URL:https://ausschreibungsradar.com/ausschreibung/3aea9aa6-29e2-4b38-9f5a-87ea00a0099f/
END:VEVENT
BEGIN:VEVENT
UID:8df2f4d37db9d59c@ausschreibungsradar.com
DTSTAMP:20260425T205832Z
DTSTART;VALUE=DATE:20250829
DTEND;VALUE=DATE:20250829
SUMMARY:Vergabeergebnis — 25FEI80698 - Geldbearbeitung und -logistik für S-Bahn Berlin
DESCRIPTION:Phase: Vergabeergebnis | Beschreibung: Auftrag wurde zugeschlagen | Link: https://ausschreibungsradar.com/ausschreibung/bae54b03-8bc7-4616-94aa-6aee2e17535c/
URL:https://ausschreibungsradar.com/ausschreibung/bae54b03-8bc7-4616-94aa-6aee2e17535c/
END:VEVENT
END:VCALENDAR
