BEGIN:VCALENDAR
VERSION:2.0
PRODID:-//AusschreibungsRadar//Timeline//DE
CALSCALE:GREGORIAN
METHOD:PUBLISH
X-WR-CALNAME:Projekt Transport von Sperrmüll für die AWG Abfallwirtschafts-Gesell
X-WR-TIMEZONE:Europe/Berlin
BEGIN:VEVENT
UID:97e5c31409e31fe0@ausschreibungsradar.com
DTSTAMP:20260425T150409Z
DTSTART;VALUE=DATE:20251009
DTEND;VALUE=DATE:20251009
SUMMARY:Angebotsfrist — Transport von Sperrmüll für die AWG Abfallwirtschafts-Gesell
DESCRIPTION:Phase: Ausschreibung | Beschreibung: Angebote werden eingeholt | Link: https://ausschreibungsradar.com/ausschreibung/fa066433-8f01-4b67-9fa8-17c0fa7a46ff/
URL:https://ausschreibungsradar.com/ausschreibung/fa066433-8f01-4b67-9fa8-17c0fa7a46ff/
END:VEVENT
BEGIN:VEVENT
UID:c803bded4933a1da@ausschreibungsradar.com
DTSTAMP:20260425T150409Z
DTSTART;VALUE=DATE:20251225
DTEND;VALUE=DATE:20251225
SUMMARY:Vergabeergebnis — Transport von Sperrmüll für die AWG Abfallwirtschafts-Gesell
DESCRIPTION:Phase: Vergabeergebnis | Beschreibung: Auftrag wurde zugeschlagen | Link: https://ausschreibungsradar.com/ausschreibung/bb9b3400-2c96-4f74-8e61-0d9a6e47df1d/
URL:https://ausschreibungsradar.com/ausschreibung/bb9b3400-2c96-4f74-8e61-0d9a6e47df1d/
END:VEVENT
BEGIN:VEVENT
UID:4029d15802c67a71@ausschreibungsradar.com
DTSTAMP:20260425T150409Z
DTSTART;VALUE=DATE:20251225
DTEND;VALUE=DATE:20251225
SUMMARY:Zuschlag — Transport von Sperrmüll für die AWG Abfallwirtschafts-Gesell
DESCRIPTION:Phase: Zuschlag | Beschreibung: Vergabeergebnis — Auftrag wurde erteilt oder Verfahren beendet. | Link: https://ausschreibungsradar.com/ausschreibung/ddb6985d-c147-4eac-ac52-162f90473401/
URL:https://ausschreibungsradar.com/ausschreibung/ddb6985d-c147-4eac-ac52-162f90473401/
END:VEVENT
END:VCALENDAR
