BEGIN:VCALENDAR
VERSION:2.0
PRODID:-//AusschreibungsRadar//Timeline//DE
CALSCALE:GREGORIAN
METHOD:PUBLISH
X-WR-CALNAME:Projekt CEM-Multimaterialdrucker
X-WR-TIMEZONE:Europe/Berlin
BEGIN:VEVENT
UID:ff5688b4d51be563@ausschreibungsradar.com
DTSTAMP:20260424T042928Z
DTSTART;VALUE=DATE:20240102
DTEND;VALUE=DATE:20240102
SUMMARY:Angebotsfrist — CEM-Multimaterialdrucker
DESCRIPTION:Phase: Ausschreibung | Beschreibung: Angebote werden eingeholt | Link: https://ausschreibungsradar.com/ausschreibung/bcd5fed5-2b85-4054-8bab-36b9c9ffdf36/
URL:https://ausschreibungsradar.com/ausschreibung/bcd5fed5-2b85-4054-8bab-36b9c9ffdf36/
END:VEVENT
END:VCALENDAR
