BEGIN:VCALENDAR
VERSION:2.0
PRODID:-//AusschreibungsRadar//Timeline//DE
CALSCALE:GREGORIAN
METHOD:PUBLISH
X-WR-CALNAME:Projekt Tiefbau, Außenanlagen
X-WR-TIMEZONE:Europe/Berlin
BEGIN:VEVENT
UID:7e2b464d3b9f7f10@ausschreibungsradar.com
DTSTAMP:20260424T090732Z
DTSTART;VALUE=DATE:20250902
DTEND;VALUE=DATE:20250902
SUMMARY:Angebotsfrist — Tiefbau\, Außenanlagen
DESCRIPTION:Phase: Ausschreibung | Beschreibung: Angebote werden eingeholt | Link: https://ausschreibungsradar.com/ausschreibung/bd0875e9-e265-48bb-b17e-a1371e174e4a/
URL:https://ausschreibungsradar.com/ausschreibung/bd0875e9-e265-48bb-b17e-a1371e174e4a/
END:VEVENT
BEGIN:VEVENT
UID:94428c80e6451ca7@ausschreibungsradar.com
DTSTAMP:20260424T090732Z
DTSTART;VALUE=DATE:20251001
DTEND;VALUE=DATE:20251001
SUMMARY:Vergabeergebnis — Tiefbau\, Außenanlagen
DESCRIPTION:Phase: Vergabeergebnis | Beschreibung: Auftrag wurde zugeschlagen | Link: https://ausschreibungsradar.com/ausschreibung/990ca0e6-509f-4d33-b931-5baf51270d9f/ | Auftragnehmer: Neubrandenburger Straßen-
URL:https://ausschreibungsradar.com/ausschreibung/990ca0e6-509f-4d33-b931-5baf51270d9f/
END:VEVENT
END:VCALENDAR
