BEGIN:VCALENDAR
VERSION:2.0
PRODID:-//AusschreibungsRadar//Timeline//DE
CALSCALE:GREGORIAN
METHOD:PUBLISH
X-WR-CALNAME:Projekt PSA Profischule Campus - Holz-, Alu-Verbundfenster/Außentüre
X-WR-TIMEZONE:Europe/Berlin
BEGIN:VEVENT
UID:ca424da5f3cb0802@ausschreibungsradar.com
DTSTAMP:20260424T212643Z
DTSTART;VALUE=DATE:20241007
DTEND;VALUE=DATE:20241007
SUMMARY:Angebotsfrist — PSA Profischule Campus - Holz-\, Alu-Verbundfenster/Außentüre
DESCRIPTION:Phase: Ausschreibung | Beschreibung: Angebote werden eingeholt | Link: https://ausschreibungsradar.com/ausschreibung/bd54d0c8-c44c-4a58-b64b-6ac89b71a146/
URL:https://ausschreibungsradar.com/ausschreibung/bd54d0c8-c44c-4a58-b64b-6ac89b71a146/
END:VEVENT
BEGIN:VEVENT
UID:552bcb9028ea52d8@ausschreibungsradar.com
DTSTAMP:20260424T212643Z
DTSTART;VALUE=DATE:20241120
DTEND;VALUE=DATE:20241120
SUMMARY:Vergabeergebnis — PSA Profischule Campus - Holz-\, Alu-Verbundfenster/Außentüre
DESCRIPTION:Phase: Vergabeergebnis | Beschreibung: Auftrag wurde zugeschlagen | Link: https://ausschreibungsradar.com/ausschreibung/ed2e2229-d79e-46dd-b7b9-819546d2f4dd/
URL:https://ausschreibungsradar.com/ausschreibung/ed2e2229-d79e-46dd-b7b9-819546d2f4dd/
END:VEVENT
END:VCALENDAR
