BEGIN:VCALENDAR
VERSION:2.0
PRODID:-//AusschreibungsRadar//Timeline//DE
CALSCALE:GREGORIAN
METHOD:PUBLISH
X-WR-CALNAME:Projekt Los 1 Architekten- und Ingenieurleistungen für den Umbau und
X-WR-TIMEZONE:Europe/Berlin
BEGIN:VEVENT
UID:7985df9fbdb10bf7@ausschreibungsradar.com
DTSTAMP:20260425T205949Z
DTSTART;VALUE=DATE:20250107
DTEND;VALUE=DATE:20250107
SUMMARY:Zuschlag — Los 1 Architekten- und Ingenieurleistungen für den Umbau und
DESCRIPTION:Phase: Zuschlag | Beschreibung: Vergabeergebnis — Auftrag wurde erteilt oder Verfahren beendet. | Link: https://ausschreibungsradar.com/ausschreibung/bea8bcbf-6bf7-43d0-a560-71411f1fb661/ | Geschätzte
URL:https://ausschreibungsradar.com/ausschreibung/bea8bcbf-6bf7-43d0-a560-71411f1fb661/
END:VEVENT
BEGIN:VEVENT
UID:55f2b37ad9afdb5f@ausschreibungsradar.com
DTSTAMP:20260425T205949Z
DTSTART;VALUE=DATE:20250114
DTEND;VALUE=DATE:20250114
SUMMARY:Zuschlag — Los 1 Architekten- und Ingenieurleistungen für den Umbau und
DESCRIPTION:Phase: Zuschlag | Beschreibung: Vergabeergebnis — Auftrag wurde erteilt oder Verfahren beendet. | Link: https://ausschreibungsradar.com/ausschreibung/feae3638-4511-4f5a-9085-bf9e9736514a/
URL:https://ausschreibungsradar.com/ausschreibung/feae3638-4511-4f5a-9085-bf9e9736514a/
END:VEVENT
END:VCALENDAR
