BEGIN:VCALENDAR
VERSION:2.0
PRODID:-//AusschreibungsRadar//Timeline//DE
CALSCALE:GREGORIAN
METHOD:PUBLISH
X-WR-CALNAME:Projekt Abschluss nicht-exklusiver Rabattvereinbarungen nach § 130 a
X-WR-TIMEZONE:Europe/Berlin
BEGIN:VEVENT
UID:58f998c446a899a1@ausschreibungsradar.com
DTSTAMP:20260425T015518Z
DTSTART;VALUE=DATE:20260102
DTEND;VALUE=DATE:20260102
SUMMARY:Ausschreibung — Abschluss nicht-exklusiver Rabattvereinbarungen nach § 130 a
DESCRIPTION:Phase: Ausschreibung | Beschreibung: Offizielle Ausschreibung mit Bieterfrist. | Link: https://ausschreibungsradar.com/ausschreibung/a5eab508-200a-4170-8dbc-0be0a7a3988e/
URL:https://ausschreibungsradar.com/ausschreibung/a5eab508-200a-4170-8dbc-0be0a7a3988e/
END:VEVENT
BEGIN:VEVENT
UID:5ff6384a1bde7b49@ausschreibungsradar.com
DTSTAMP:20260425T015518Z
DTSTART;VALUE=DATE:20260131
DTEND;VALUE=DATE:20260131
SUMMARY:Ausschreibung — Abschluss nicht-exklusiver Rabattvereinbarungen nach § 130 a
DESCRIPTION:Phase: Ausschreibung | Beschreibung: Offizielle Ausschreibung mit Bieterfrist. | Link: https://ausschreibungsradar.com/ausschreibung/bef8764e-a5fb-4499-9cee-796fadd9c6e9/
URL:https://ausschreibungsradar.com/ausschreibung/bef8764e-a5fb-4499-9cee-796fadd9c6e9/
END:VEVENT
END:VCALENDAR
