BEGIN:VCALENDAR
VERSION:2.0
PRODID:-//AusschreibungsRadar//Timeline//DE
CALSCALE:GREGORIAN
METHOD:PUBLISH
X-WR-CALNAME:Projekt Umweltbundesamt - Dahlemer Dreieck Haus 1 - Putz- und Stucka
X-WR-TIMEZONE:Europe/Berlin
BEGIN:VEVENT
UID:99f091b1676ff719@ausschreibungsradar.com
DTSTAMP:20260426T003100Z
DTSTART;VALUE=DATE:20251002
DTEND;VALUE=DATE:20251002
SUMMARY:Ausschreibung — Umweltbundesamt - Dahlemer Dreieck Haus 1 - Putz- und Stucka
DESCRIPTION:Phase: Ausschreibung | Beschreibung: Offizielle Ausschreibung mit Bieterfrist. | Link: https://ausschreibungsradar.com/ausschreibung/8b3e77d7-8283-4cfc-b502-c9343ec64e08/
URL:https://ausschreibungsradar.com/ausschreibung/8b3e77d7-8283-4cfc-b502-c9343ec64e08/
END:VEVENT
BEGIN:VEVENT
UID:ea44c6ec307fc501@ausschreibungsradar.com
DTSTAMP:20260426T003100Z
DTSTART;VALUE=DATE:20251202
DTEND;VALUE=DATE:20251202
SUMMARY:Angebotsfrist — Umweltbundesamt - Dahlemer Dreieck Haus 1 - Putz- und Stucka
DESCRIPTION:Phase: Ausschreibung | Beschreibung: Angebote werden eingeholt | Link: https://ausschreibungsradar.com/ausschreibung/bf5f5910-73a7-4c8f-8e59-73d21b013595/
URL:https://ausschreibungsradar.com/ausschreibung/bf5f5910-73a7-4c8f-8e59-73d21b013595/
END:VEVENT
BEGIN:VEVENT
UID:964b22e6777b7f1a@ausschreibungsradar.com
DTSTAMP:20260426T003100Z
DTSTART;VALUE=DATE:20260305
DTEND;VALUE=DATE:20260305
SUMMARY:Vergabeergebnis — Umweltbundesamt - Dahlemer Dreieck Haus 1 - Putz- und Stucka
DESCRIPTION:Phase: Vergabeergebnis | Beschreibung: Auftrag wurde zugeschlagen | Link: https://ausschreibungsradar.com/ausschreibung/cc405508-3f61-4fa3-85ab-8420cf7f2155/ | Auftragnehmer: Fine Wall Berlin GmbH
URL:https://ausschreibungsradar.com/ausschreibung/cc405508-3f61-4fa3-85ab-8420cf7f2155/
END:VEVENT
END:VCALENDAR
