BEGIN:VCALENDAR
VERSION:2.0
PRODID:-//AusschreibungsRadar//Timeline//DE
CALSCALE:GREGORIAN
METHOD:PUBLISH
X-WR-CALNAME:Projekt Ortungssystem S-Bahn Stammstrecke TSP 2022
X-WR-TIMEZONE:Europe/Berlin
BEGIN:VEVENT
UID:eeb620199801af5f@ausschreibungsradar.com
DTSTAMP:20260425T194006Z
DTSTART;VALUE=DATE:20240506
DTEND;VALUE=DATE:20240506
SUMMARY:Vertragsmodifikation — Ortungssystem S-Bahn Stammstrecke TSP 2022
DESCRIPTION:Phase: Vertragsmodifikation | Beschreibung: Änderung am bestehenden Vertrag nach Zuschlag. | Link: https://ausschreibungsradar.com/ausschreibung/28cdbb03-14de-49b1-b58e-48e9874ea666/
URL:https://ausschreibungsradar.com/ausschreibung/28cdbb03-14de-49b1-b58e-48e9874ea666/
END:VEVENT
BEGIN:VEVENT
UID:98ef640e85b0cc33@ausschreibungsradar.com
DTSTAMP:20260425T194006Z
DTSTART;VALUE=DATE:20250325
DTEND;VALUE=DATE:20250325
SUMMARY:Vertragsmodifikation — Ortungssystem S-Bahn Stammstrecke TSP 2022
DESCRIPTION:Phase: Vertragsmodifikation | Beschreibung: Änderung am bestehenden Vertrag nach Zuschlag. | Link: https://ausschreibungsradar.com/ausschreibung/e64fce2c-6f50-446f-8397-561dceee3623/
URL:https://ausschreibungsradar.com/ausschreibung/e64fce2c-6f50-446f-8397-561dceee3623/
END:VEVENT
BEGIN:VEVENT
UID:4dae46044c54cb30@ausschreibungsradar.com
DTSTAMP:20260425T194006Z
DTSTART;VALUE=DATE:20260415
DTEND;VALUE=DATE:20260415
SUMMARY:Vertragsänderung — Ortungssystem S-Bahn Stammstrecke TSP 2022
DESCRIPTION:Phase: Vertragsänderung | Beschreibung: Zusätzliche Lieferungen/Leistungen beauftragt | Link: https://ausschreibungsradar.com/ausschreibung/bf8e276d-2904-45b3-8fb9-da9e4028c83d/
URL:https://ausschreibungsradar.com/ausschreibung/bf8e276d-2904-45b3-8fb9-da9e4028c83d/
END:VEVENT
BEGIN:VEVENT
UID:7f31bff71456a189@ausschreibungsradar.com
DTSTAMP:20260425T194006Z
DTSTART;VALUE=DATE:20260415
DTEND;VALUE=DATE:20260415
SUMMARY:Vertragsmodifikation — Ortungssystem S-Bahn Stammstrecke TSP 2022
DESCRIPTION:Phase: Vertragsmodifikation | Beschreibung: Änderung am bestehenden Vertrag nach Zuschlag. | Link: https://ausschreibungsradar.com/ausschreibung/6f9135cb-0be1-40ed-97f1-6f2f9e8c84e4/
URL:https://ausschreibungsradar.com/ausschreibung/6f9135cb-0be1-40ed-97f1-6f2f9e8c84e4/
END:VEVENT
END:VCALENDAR
