BEGIN:VCALENDAR
VERSION:2.0
PRODID:-//AusschreibungsRadar//Timeline//DE
CALSCALE:GREGORIAN
METHOD:PUBLISH
X-WR-CALNAME:Projekt 2. S-Bahn-Stammstrecke München, Ausführungsplanung für die B
X-WR-TIMEZONE:Europe/Berlin
BEGIN:VEVENT
UID:4ce68d3f38b592f8@ausschreibungsradar.com
DTSTAMP:20260424T042948Z
DTSTART;VALUE=DATE:20251215
DTEND;VALUE=DATE:20251215
SUMMARY:Vertragsmodifikation — 2. S-Bahn-Stammstrecke München\, Ausführungsplanung für die B
DESCRIPTION:Phase: Vertragsmodifikation | Beschreibung: Änderung am bestehenden Vertrag nach Zuschlag. | Link: https://ausschreibungsradar.com/ausschreibung/bfb5bf4a-b79b-4cae-8532-b165236afd88/
URL:https://ausschreibungsradar.com/ausschreibung/bfb5bf4a-b79b-4cae-8532-b165236afd88/
END:VEVENT
BEGIN:VEVENT
UID:854ef8bb7706d4b7@ausschreibungsradar.com
DTSTAMP:20260424T042948Z
DTSTART;VALUE=DATE:20260203
DTEND;VALUE=DATE:20260203
SUMMARY:Vertragsmodifikation — 2. S-Bahn-Stammstrecke München\, Ausführungsplanung für die B
DESCRIPTION:Phase: Vertragsmodifikation | Beschreibung: Änderung am bestehenden Vertrag nach Zuschlag. | Link: https://ausschreibungsradar.com/ausschreibung/2529c2d4-f48e-4087-8391-819983746970/
URL:https://ausschreibungsradar.com/ausschreibung/2529c2d4-f48e-4087-8391-819983746970/
END:VEVENT
BEGIN:VEVENT
UID:d466719d5bdb7cd9@ausschreibungsradar.com
DTSTAMP:20260424T042948Z
DTSTART;VALUE=DATE:20260302
DTEND;VALUE=DATE:20260302
SUMMARY:Vertragsmodifikation — 2. S-Bahn-Stammstrecke München\, Ausführungsplanung für die B
DESCRIPTION:Phase: Vertragsmodifikation | Beschreibung: Änderung am bestehenden Vertrag nach Zuschlag. | Link: https://ausschreibungsradar.com/ausschreibung/f32f12a8-f32f-4021-8aea-26080cebcba4/
URL:https://ausschreibungsradar.com/ausschreibung/f32f12a8-f32f-4021-8aea-26080cebcba4/
END:VEVENT
BEGIN:VEVENT
UID:a6661280db890545@ausschreibungsradar.com
DTSTAMP:20260424T042948Z
DTSTART;VALUE=DATE:20260409
DTEND;VALUE=DATE:20260409
SUMMARY:Vertragsmodifikation — 2. S-Bahn-Stammstrecke München\, Ausführungsplanung für die B
DESCRIPTION:Phase: Vertragsmodifikation | Beschreibung: Änderung am bestehenden Vertrag nach Zuschlag. | Link: https://ausschreibungsradar.com/ausschreibung/cd897800-130d-4e34-977f-0f8970dec06a/
URL:https://ausschreibungsradar.com/ausschreibung/cd897800-130d-4e34-977f-0f8970dec06a/
END:VEVENT
BEGIN:VEVENT
UID:1538dea4d2b12390@ausschreibungsradar.com
DTSTAMP:20260424T042948Z
DTSTART;VALUE=DATE:20260415
DTEND;VALUE=DATE:20260415
SUMMARY:Vertragsänderung — 2. S-Bahn-Stammstrecke München\, Ausführungsplanung für die B
DESCRIPTION:Phase: Vertragsänderung | Beschreibung: Modifikation aufgrund unvorhersehbarer Umstände | Link: https://ausschreibungsradar.com/ausschreibung/bfa95e3a-e883-4989-84c0-402312c677bb/
URL:https://ausschreibungsradar.com/ausschreibung/bfa95e3a-e883-4989-84c0-402312c677bb/
END:VEVENT
BEGIN:VEVENT
UID:786b0e0007a7643c@ausschreibungsradar.com
DTSTAMP:20260424T042948Z
DTSTART;VALUE=DATE:20260415
DTEND;VALUE=DATE:20260415
SUMMARY:Vertragsmodifikation — 2. S-Bahn-Stammstrecke München\, Ausführungsplanung für die B
DESCRIPTION:Phase: Vertragsmodifikation | Beschreibung: Änderung am bestehenden Vertrag nach Zuschlag. | Link: https://ausschreibungsradar.com/ausschreibung/89a11343-2992-4ab5-ace7-5a7d837d92e0/
URL:https://ausschreibungsradar.com/ausschreibung/89a11343-2992-4ab5-ace7-5a7d837d92e0/
END:VEVENT
END:VCALENDAR
