BEGIN:VCALENDAR
VERSION:2.0
PRODID:-//AusschreibungsRadar//Timeline//DE
CALSCALE:GREGORIAN
METHOD:PUBLISH
X-WR-CALNAME:Projekt Neubau Markt 2 - Los 21 Aufzugsanlage
X-WR-TIMEZONE:Europe/Berlin
BEGIN:VEVENT
UID:8dade6944172f7da@ausschreibungsradar.com
DTSTAMP:20260424T155349Z
DTSTART;VALUE=DATE:20260323
DTEND;VALUE=DATE:20260323
SUMMARY:Angebotsfrist — Neubau Markt 2 - Los 21 Aufzugsanlage
DESCRIPTION:Phase: Ausschreibung | Beschreibung: Angebote werden eingeholt | Link: https://ausschreibungsradar.com/ausschreibung/4871a2a8-40f0-49dd-a4a6-d0a720f152ce/
URL:https://ausschreibungsradar.com/ausschreibung/4871a2a8-40f0-49dd-a4a6-d0a720f152ce/
END:VEVENT
BEGIN:VEVENT
UID:37ab56a34b9b6cee@ausschreibungsradar.com
DTSTAMP:20260424T155349Z
DTSTART;VALUE=DATE:20260219
DTEND;VALUE=DATE:20260219
SUMMARY:Ausschreibung — Neubau Markt 2 - Los 21 Aufzugsanlage
DESCRIPTION:Phase: Ausschreibung | Beschreibung: Offizielle Ausschreibung mit Bieterfrist. | Link: https://ausschreibungsradar.com/ausschreibung/9941cf3f-2b7e-415f-9715-be1b220ee8e7/
URL:https://ausschreibungsradar.com/ausschreibung/9941cf3f-2b7e-415f-9715-be1b220ee8e7/
END:VEVENT
BEGIN:VEVENT
UID:a4a18296c67e9df5@ausschreibungsradar.com
DTSTAMP:20260424T155349Z
DTSTART;VALUE=DATE:20260318
DTEND;VALUE=DATE:20260318
SUMMARY:Vergabeergebnis — Neubau Markt 2 - Los 21 Aufzugsanlage
DESCRIPTION:Phase: Vergabeergebnis | Beschreibung: Keine Angebote eingegangen | Link: https://ausschreibungsradar.com/ausschreibung/bfb62035-b1d0-48e8-9c86-f8a3c8a108f3/
URL:https://ausschreibungsradar.com/ausschreibung/bfb62035-b1d0-48e8-9c86-f8a3c8a108f3/
END:VEVENT
END:VCALENDAR
