BEGIN:VCALENDAR
VERSION:2.0
PRODID:-//AusschreibungsRadar//Timeline//DE
CALSCALE:GREGORIAN
METHOD:PUBLISH
X-WR-CALNAME:Projekt Außenanlagen LV.400
X-WR-TIMEZONE:Europe/Berlin
BEGIN:VEVENT
UID:c140a2ecdc967df5@ausschreibungsradar.com
DTSTAMP:20260426T004701Z
DTSTART;VALUE=DATE:20250826
DTEND;VALUE=DATE:20250826
SUMMARY:Angebotsfrist — Außenanlagen LV.400
DESCRIPTION:Phase: Ausschreibung | Beschreibung: Angebote werden eingeholt | Link: https://ausschreibungsradar.com/ausschreibung/bfc93c3b-abe9-4041-a58a-52b795b1abb2/
URL:https://ausschreibungsradar.com/ausschreibung/bfc93c3b-abe9-4041-a58a-52b795b1abb2/
END:VEVENT
BEGIN:VEVENT
UID:df779133709154a8@ausschreibungsradar.com
DTSTAMP:20260426T004701Z
DTSTART;VALUE=DATE:20251007
DTEND;VALUE=DATE:20251007
SUMMARY:Vergabeergebnis — Außenanlagen LV.400
DESCRIPTION:Phase: Vergabeergebnis | Beschreibung: Auftrag wurde zugeschlagen | Link: https://ausschreibungsradar.com/ausschreibung/b4b9174d-04fd-44b8-8127-36fe0987de4f/ | Auftragnehmer: Regenfuß Garten-und Lands
URL:https://ausschreibungsradar.com/ausschreibung/b4b9174d-04fd-44b8-8127-36fe0987de4f/
END:VEVENT
END:VCALENDAR
