BEGIN:VCALENDAR
VERSION:2.0
PRODID:-//AusschreibungsRadar//Timeline//DE
CALSCALE:GREGORIAN
METHOD:PUBLISH
X-WR-CALNAME:Projekt Erneuerung Bergeweg Schwebebahn, Los 2 - Ingenieurbauwerke T
X-WR-TIMEZONE:Europe/Berlin
BEGIN:VEVENT
UID:130fa2676d752de3@ausschreibungsradar.com
DTSTAMP:20260423T222920Z
DTSTART;VALUE=DATE:20260422
DTEND;VALUE=DATE:20260422
SUMMARY:Ausschreibung — Erneuerung Bergeweg Schwebebahn\, Los 2 - Ingenieurbauwerke T
DESCRIPTION:Phase: Ausschreibung | Beschreibung: Offizielle Ausschreibung mit Bieterfrist. | Link: https://ausschreibungsradar.com/ausschreibung/bund-dtvp-322913/
URL:https://ausschreibungsradar.com/ausschreibung/bund-dtvp-322913/
END:VEVENT
BEGIN:VEVENT
UID:9fccb24aa58e6361@ausschreibungsradar.com
DTSTAMP:20260423T222920Z
DTSTART;VALUE=DATE:20260422
DTEND;VALUE=DATE:20260422
SUMMARY:Ausschreibung — Erneuerung Bergeweg Schwebebahn\, Los 2 - Ingenieurbauwerke T
DESCRIPTION:Phase: Ausschreibung | Beschreibung: Offizielle Ausschreibung mit Bieterfrist. | Link: https://ausschreibungsradar.com/ausschreibung/bund-dtvp-322858/
URL:https://ausschreibungsradar.com/ausschreibung/bund-dtvp-322858/
END:VEVENT
END:VCALENDAR
