BEGIN:VCALENDAR
VERSION:2.0
PRODID:-//AusschreibungsRadar//Timeline//DE
CALSCALE:GREGORIAN
METHOD:PUBLISH
X-WR-CALNAME:Projekt Erweiterung und Sanierung Schillerschule Lahnstein, Los 3 - 
X-WR-TIMEZONE:Europe/Berlin
BEGIN:VEVENT
UID:2e7325b01f89c3e1@ausschreibungsradar.com
DTSTAMP:20260425T185109Z
DTSTART;VALUE=DATE:20240321
DTEND;VALUE=DATE:20240321
SUMMARY:Ausschreibung — Erweiterung und Sanierung Schillerschule Lahnstein\, Los 3 - 
DESCRIPTION:Phase: Ausschreibung | Beschreibung: Angebote werden eingeholt | Link: https://ausschreibungsradar.com/ausschreibung/c02f6c4c-4977-41a1-bdbb-6eaf3e3caca2/
URL:https://ausschreibungsradar.com/ausschreibung/c02f6c4c-4977-41a1-bdbb-6eaf3e3caca2/
END:VEVENT
BEGIN:VEVENT
UID:647ce0c5f0c75f73@ausschreibungsradar.com
DTSTAMP:20260425T185109Z
DTSTART;VALUE=DATE:20240321
DTEND;VALUE=DATE:20240321
SUMMARY:Zuschlag — Erweiterung und Sanierung Schillerschule Lahnstein\, Los 3 - 
DESCRIPTION:Phase: Zuschlag | Beschreibung: Vergabeergebnis — Auftrag wurde erteilt oder Verfahren beendet. | Link: https://ausschreibungsradar.com/ausschreibung/6ce2a39b-55bb-4b87-840d-db9fa42efe11/
URL:https://ausschreibungsradar.com/ausschreibung/6ce2a39b-55bb-4b87-840d-db9fa42efe11/
END:VEVENT
BEGIN:VEVENT
UID:3b251351e38e250e@ausschreibungsradar.com
DTSTAMP:20260425T185109Z
DTSTART;VALUE=DATE:20240321
DTEND;VALUE=DATE:20240321
SUMMARY:Ausschreibung — Erweiterung und Sanierung Schillerschule Lahnstein\, Los 3 - 
DESCRIPTION:Phase: Ausschreibung | Beschreibung: Offizielle Ausschreibung mit Bieterfrist. | Link: https://ausschreibungsradar.com/ausschreibung/865e2e15-95b0-40db-8edc-7d8f7ad4cecf/
URL:https://ausschreibungsradar.com/ausschreibung/865e2e15-95b0-40db-8edc-7d8f7ad4cecf/
END:VEVENT
BEGIN:VEVENT
UID:fe1ece4f3a02a45e@ausschreibungsradar.com
DTSTAMP:20260425T185109Z
DTSTART;VALUE=DATE:20240829
DTEND;VALUE=DATE:20240829
SUMMARY:Vergabeergebnis — Erweiterung und Sanierung Schillerschule Lahnstein\, Los 3 - 
DESCRIPTION:Phase: Vergabeergebnis | Beschreibung: Auftrag wurde zugeschlagen | Link: https://ausschreibungsradar.com/ausschreibung/941c9f18-c964-4c95-8511-a2f8714141f6/
URL:https://ausschreibungsradar.com/ausschreibung/941c9f18-c964-4c95-8511-a2f8714141f6/
END:VEVENT
END:VCALENDAR
