BEGIN:VCALENDAR
VERSION:2.0
PRODID:-//AusschreibungsRadar//Timeline//DE
CALSCALE:GREGORIAN
METHOD:PUBLISH
X-WR-CALNAME:Projekt Lieferung eines Tanklöschfahrzeuges mit Staffelbesatzung   T
X-WR-TIMEZONE:Europe/Berlin
BEGIN:VEVENT
UID:d0d3e67a583ac0ca@ausschreibungsradar.com
DTSTAMP:20260426T011847Z
DTSTART;VALUE=DATE:20240918
DTEND;VALUE=DATE:20240918
SUMMARY:Angebotsfrist — Lieferung eines Tanklöschfahrzeuges mit Staffelbesatzung   T
DESCRIPTION:Phase: Ausschreibung | Beschreibung: Angebote werden eingeholt | Link: https://ausschreibungsradar.com/ausschreibung/c0646960-0d36-48b3-86e5-2ffb29f41aeb/ | Geschätzter Wert: 568000 €
URL:https://ausschreibungsradar.com/ausschreibung/c0646960-0d36-48b3-86e5-2ffb29f41aeb/
END:VEVENT
BEGIN:VEVENT
UID:64f2e3e8742d4777@ausschreibungsradar.com
DTSTAMP:20260426T011847Z
DTSTART;VALUE=DATE:20250115
DTEND;VALUE=DATE:20250115
SUMMARY:Vergabeergebnis — Lieferung eines Tanklöschfahrzeuges mit Staffelbesatzung   T
DESCRIPTION:Phase: Vergabeergebnis | Beschreibung: Auftrag wurde zugeschlagen | Link: https://ausschreibungsradar.com/ausschreibung/523c9af5-c8a0-4203-aaaf-9a7c4062e16c/ | Geschätzter Wert: 568000 €
URL:https://ausschreibungsradar.com/ausschreibung/523c9af5-c8a0-4203-aaaf-9a7c4062e16c/
END:VEVENT
END:VCALENDAR
