BEGIN:VCALENDAR
VERSION:2.0
PRODID:-//AusschreibungsRadar//Timeline//DE
CALSCALE:GREGORIAN
METHOD:PUBLISH
X-WR-CALNAME:Projekt CLP-2.TA-A-015/05/25 Maler- u. Tapezierarbeiten
X-WR-TIMEZONE:Europe/Berlin
BEGIN:VEVENT
UID:61c62f9ac8471336@ausschreibungsradar.com
DTSTAMP:20260425T224634Z
DTSTART;VALUE=DATE:20250626
DTEND;VALUE=DATE:20250626
SUMMARY:Angebotsfrist — CLP-2.TA-A-015/05/25 Maler- u. Tapezierarbeiten
DESCRIPTION:Phase: Ausschreibung | Beschreibung: Angebote werden eingeholt | Link: https://ausschreibungsradar.com/ausschreibung/c06c8732-2d6e-4f2c-af21-1ee9b9b138d3/
URL:https://ausschreibungsradar.com/ausschreibung/c06c8732-2d6e-4f2c-af21-1ee9b9b138d3/
END:VEVENT
BEGIN:VEVENT
UID:387efa32a045b116@ausschreibungsradar.com
DTSTAMP:20260425T224634Z
DTSTART;VALUE=DATE:20250813
DTEND;VALUE=DATE:20250813
SUMMARY:Vergabeergebnis — CLP-2.TA-A-015/05/25 Maler- u. Tapezierarbeiten
DESCRIPTION:Phase: Vergabeergebnis | Beschreibung: Auftrag wurde zugeschlagen | Link: https://ausschreibungsradar.com/ausschreibung/b0799a57-8f04-40f2-ad09-d8ac6d8ecc30/
URL:https://ausschreibungsradar.com/ausschreibung/b0799a57-8f04-40f2-ad09-d8ac6d8ecc30/
END:VEVENT
END:VCALENDAR
