BEGIN:VCALENDAR
VERSION:2.0
PRODID:-//AusschreibungsRadar//Timeline//DE
CALSCALE:GREGORIAN
METHOD:PUBLISH
X-WR-CALNAME:Projekt Reinigung, Logistik und Leasing von Dienstkleidung im Rettun
X-WR-TIMEZONE:Europe/Berlin
BEGIN:VEVENT
UID:5bedb925ea4f1bdd@ausschreibungsradar.com
DTSTAMP:20260424T183254Z
DTSTART;VALUE=DATE:20260108
DTEND;VALUE=DATE:20260108
SUMMARY:Angebotsfrist — Reinigung\, Logistik und Leasing von Dienstkleidung im Rettun
DESCRIPTION:Phase: Ausschreibung | Beschreibung: Angebote werden eingeholt | Link: https://ausschreibungsradar.com/ausschreibung/c0ab6a57-ebb0-4bc3-aa30-5cc1782ea309/
URL:https://ausschreibungsradar.com/ausschreibung/c0ab6a57-ebb0-4bc3-aa30-5cc1782ea309/
END:VEVENT
BEGIN:VEVENT
UID:10ac9b27c7a155cb@ausschreibungsradar.com
DTSTAMP:20260424T183254Z
DTSTART;VALUE=DATE:20251114
DTEND;VALUE=DATE:20251114
SUMMARY:Ausschreibung — Reinigung\, Logistik und Leasing von Dienstkleidung im Rettun
DESCRIPTION:Phase: Ausschreibung | Beschreibung: Offizielle Ausschreibung mit Bieterfrist. | Link: https://ausschreibungsradar.com/ausschreibung/c0673a63-10b4-499f-a49e-bb537b3ea88e/
URL:https://ausschreibungsradar.com/ausschreibung/c0673a63-10b4-499f-a49e-bb537b3ea88e/
END:VEVENT
BEGIN:VEVENT
UID:5f80c2d629913a1e@ausschreibungsradar.com
DTSTAMP:20260424T183254Z
DTSTART;VALUE=DATE:20260217
DTEND;VALUE=DATE:20260217
SUMMARY:Vergabeergebnis — Reinigung\, Logistik und Leasing von Dienstkleidung im Rettun
DESCRIPTION:Phase: Vergabeergebnis | Beschreibung: Auftrag wurde zugeschlagen | Link: https://ausschreibungsradar.com/ausschreibung/0f2daf96-613e-4ffb-838a-c7cefe1a4c9c/
URL:https://ausschreibungsradar.com/ausschreibung/0f2daf96-613e-4ffb-838a-c7cefe1a4c9c/
END:VEVENT
END:VCALENDAR
