BEGIN:VCALENDAR
VERSION:2.0
PRODID:-//AusschreibungsRadar//Timeline//DE
CALSCALE:GREGORIAN
METHOD:PUBLISH
X-WR-CALNAME:Projekt Umbau eines Wohnblocks zu einer Jugendherberge
X-WR-TIMEZONE:Europe/Berlin
BEGIN:VEVENT
UID:cf7e63d66fdefccc@ausschreibungsradar.com
DTSTAMP:20260425T102615Z
DTSTART;VALUE=DATE:20240817
DTEND;VALUE=DATE:20240817
SUMMARY:Vergabeergebnis — Umbau eines Wohnblocks zu einer Jugendherberge
DESCRIPTION:Phase: Vergabeergebnis | Beschreibung: Auftrag wurde zugeschlagen | Link: https://ausschreibungsradar.com/ausschreibung/c124ca2f-004c-45a1-b144-62efde401da5/
URL:https://ausschreibungsradar.com/ausschreibung/c124ca2f-004c-45a1-b144-62efde401da5/
END:VEVENT
BEGIN:VEVENT
UID:6d39af1d85fbc2cd@ausschreibungsradar.com
DTSTAMP:20260425T102615Z
DTSTART;VALUE=DATE:20240817
DTEND;VALUE=DATE:20240817
SUMMARY:Zuschlag — Umbau eines Wohnblocks zu einer Jugendherberge
DESCRIPTION:Phase: Zuschlag | Beschreibung: Vergabeergebnis — Auftrag wurde erteilt oder Verfahren beendet. | Link: https://ausschreibungsradar.com/ausschreibung/93288043-73e3-43ef-9733-1c0b752c52f2/
URL:https://ausschreibungsradar.com/ausschreibung/93288043-73e3-43ef-9733-1c0b752c52f2/
END:VEVENT
BEGIN:VEVENT
UID:a7a90e841074d0a4@ausschreibungsradar.com
DTSTAMP:20260425T102615Z
DTSTART;VALUE=DATE:20240817
DTEND;VALUE=DATE:20240817
SUMMARY:Zuschlag — Umbau eines Wohnblocks zu einer Jugendherberge
DESCRIPTION:Phase: Zuschlag | Beschreibung: Vergabeergebnis — Auftrag wurde erteilt oder Verfahren beendet. | Link: https://ausschreibungsradar.com/ausschreibung/98e8fb09-a0f2-4418-b277-29f7b5a6bad3/
URL:https://ausschreibungsradar.com/ausschreibung/98e8fb09-a0f2-4418-b277-29f7b5a6bad3/
END:VEVENT
BEGIN:VEVENT
UID:2bf858122be03517@ausschreibungsradar.com
DTSTAMP:20260425T102615Z
DTSTART;VALUE=DATE:20240817
DTEND;VALUE=DATE:20240817
SUMMARY:Zuschlag — Umbau eines Wohnblocks zu einer Jugendherberge
DESCRIPTION:Phase: Zuschlag | Beschreibung: Vergabeergebnis — Auftrag wurde erteilt oder Verfahren beendet. | Link: https://ausschreibungsradar.com/ausschreibung/e9c46675-3f13-4288-9021-0a468132d0fb/
URL:https://ausschreibungsradar.com/ausschreibung/e9c46675-3f13-4288-9021-0a468132d0fb/
END:VEVENT
BEGIN:VEVENT
UID:b234eedbb3f98049@ausschreibungsradar.com
DTSTAMP:20260425T102615Z
DTSTART;VALUE=DATE:20240817
DTEND;VALUE=DATE:20240817
SUMMARY:Zuschlag — Umbau eines Wohnblocks zu einer Jugendherberge
DESCRIPTION:Phase: Zuschlag | Beschreibung: Vergabeergebnis — Auftrag wurde erteilt oder Verfahren beendet. | Link: https://ausschreibungsradar.com/ausschreibung/cac91283-82a7-4037-ad76-346ed70399cf/
URL:https://ausschreibungsradar.com/ausschreibung/cac91283-82a7-4037-ad76-346ed70399cf/
END:VEVENT
BEGIN:VEVENT
UID:74111559be30aede@ausschreibungsradar.com
DTSTAMP:20260425T102615Z
DTSTART;VALUE=DATE:20240817
DTEND;VALUE=DATE:20240817
SUMMARY:Zuschlag — Umbau eines Wohnblocks zu einer Jugendherberge
DESCRIPTION:Phase: Zuschlag | Beschreibung: Vergabeergebnis — Auftrag wurde erteilt oder Verfahren beendet. | Link: https://ausschreibungsradar.com/ausschreibung/997f47eb-2218-433f-b0fb-49eb4b4480fd/
URL:https://ausschreibungsradar.com/ausschreibung/997f47eb-2218-433f-b0fb-49eb4b4480fd/
END:VEVENT
END:VCALENDAR
