BEGIN:VCALENDAR
VERSION:2.0
PRODID:-//AusschreibungsRadar//Timeline//DE
CALSCALE:GREGORIAN
METHOD:PUBLISH
X-WR-CALNAME:Projekt Wartung, Inspektion und Reinigung von Fahrgastunterständen i
X-WR-TIMEZONE:Europe/Berlin
BEGIN:VEVENT
UID:a7b33e1cdf1c1c59@ausschreibungsradar.com
DTSTAMP:20260424T103905Z
DTSTART;VALUE=DATE:20260428
DTEND;VALUE=DATE:20260428
SUMMARY:Angebotsfrist — Wartung\, Inspektion und Reinigung von Fahrgastunterständen i
DESCRIPTION:Phase: Ausschreibung | Beschreibung: Angebote werden eingeholt | Link: https://ausschreibungsradar.com/ausschreibung/c162499b-197f-4ea3-a8f9-8e7ef0e6de41/
URL:https://ausschreibungsradar.com/ausschreibung/c162499b-197f-4ea3-a8f9-8e7ef0e6de41/
END:VEVENT
END:VCALENDAR
