BEGIN:VCALENDAR
VERSION:2.0
PRODID:-//AusschreibungsRadar//Timeline//DE
CALSCALE:GREGORIAN
METHOD:PUBLISH
X-WR-CALNAME:Projekt AE - Teilneubau der Grundschule Groß Berkel - Gerüstarbeiten
X-WR-TIMEZONE:Europe/Berlin
BEGIN:VEVENT
UID:9487b2f1a376f765@ausschreibungsradar.com
DTSTAMP:20260424T122831Z
DTSTART;VALUE=DATE:20250108
DTEND;VALUE=DATE:20250108
SUMMARY:Angebotsfrist — AE - Teilneubau der Grundschule Groß Berkel - Gerüstarbeiten
DESCRIPTION:Phase: Ausschreibung | Beschreibung: Angebote werden eingeholt | Link: https://ausschreibungsradar.com/ausschreibung/11dfffb6-d672-4916-b849-55d5a9a3141c/
URL:https://ausschreibungsradar.com/ausschreibung/11dfffb6-d672-4916-b849-55d5a9a3141c/
END:VEVENT
BEGIN:VEVENT
UID:1561e2063cef552a@ausschreibungsradar.com
DTSTAMP:20260424T122831Z
DTSTART;VALUE=DATE:20250122
DTEND;VALUE=DATE:20250122
SUMMARY:Zuschlag — AE - Teilneubau der Grundschule Groß Berkel - Gerüstarbeiten
DESCRIPTION:Phase: Zuschlag | Beschreibung: Vergabeergebnis — Auftrag wurde erteilt oder Verfahren beendet. | Link: https://ausschreibungsradar.com/ausschreibung/abf414ed-4b77-4ace-9ccf-f255cd094b64/
URL:https://ausschreibungsradar.com/ausschreibung/abf414ed-4b77-4ace-9ccf-f255cd094b64/
END:VEVENT
BEGIN:VEVENT
UID:6b772271118f59f1@ausschreibungsradar.com
DTSTAMP:20260424T122831Z
DTSTART;VALUE=DATE:20250124
DTEND;VALUE=DATE:20250124
SUMMARY:Ausschreibung — AE - Teilneubau der Grundschule Groß Berkel - Gerüstarbeiten
DESCRIPTION:Phase: Ausschreibung | Beschreibung: Offizielle Ausschreibung mit Bieterfrist. | Link: https://ausschreibungsradar.com/ausschreibung/cea31e09-277f-407d-a503-999099d81458/
URL:https://ausschreibungsradar.com/ausschreibung/cea31e09-277f-407d-a503-999099d81458/
END:VEVENT
BEGIN:VEVENT
UID:ca9bb209d3cf1190@ausschreibungsradar.com
DTSTAMP:20260424T122831Z
DTSTART;VALUE=DATE:20250124
DTEND;VALUE=DATE:20250124
SUMMARY:Ausschreibung — AE - Teilneubau der Grundschule Groß Berkel - Gerüstarbeiten
DESCRIPTION:Phase: Ausschreibung | Beschreibung: Offizielle Ausschreibung mit Bieterfrist. | Link: https://ausschreibungsradar.com/ausschreibung/ea613762-4695-44f2-9be1-993af6e5d433/
URL:https://ausschreibungsradar.com/ausschreibung/ea613762-4695-44f2-9be1-993af6e5d433/
END:VEVENT
BEGIN:VEVENT
UID:cace97072d930871@ausschreibungsradar.com
DTSTAMP:20260424T122831Z
DTSTART;VALUE=DATE:20250212
DTEND;VALUE=DATE:20250212
SUMMARY:Vergabeergebnis — AE - Teilneubau der Grundschule Groß Berkel - Gerüstarbeiten
DESCRIPTION:Phase: Vergabeergebnis | Beschreibung: Auftrag wurde zugeschlagen | Link: https://ausschreibungsradar.com/ausschreibung/c1a684c1-af46-4ca4-a825-e8eed9a36a1d/
URL:https://ausschreibungsradar.com/ausschreibung/c1a684c1-af46-4ca4-a825-e8eed9a36a1d/
END:VEVENT
BEGIN:VEVENT
UID:2c583b0f6640e148@ausschreibungsradar.com
DTSTAMP:20260424T122831Z
DTSTART;VALUE=DATE:20250314
DTEND;VALUE=DATE:20250314
SUMMARY:Zuschlag — AE - Teilneubau der Grundschule Groß Berkel - Gerüstarbeiten
DESCRIPTION:Phase: Zuschlag | Beschreibung: Vergabeergebnis — Auftrag wurde erteilt oder Verfahren beendet. | Link: https://ausschreibungsradar.com/ausschreibung/c8085466-d415-49a8-8129-d89837da7742/
URL:https://ausschreibungsradar.com/ausschreibung/c8085466-d415-49a8-8129-d89837da7742/
END:VEVENT
END:VCALENDAR
