BEGIN:VCALENDAR
VERSION:2.0
PRODID:-//AusschreibungsRadar//Timeline//DE
CALSCALE:GREGORIAN
METHOD:PUBLISH
X-WR-CALNAME:Projekt 49GSSH Los 505-Freianlagen TO3
X-WR-TIMEZONE:Europe/Berlin
BEGIN:VEVENT
UID:18ed4ad04cf722ac@ausschreibungsradar.com
DTSTAMP:20260424T011535Z
DTSTART;VALUE=DATE:20260223
DTEND;VALUE=DATE:20260223
SUMMARY:Angebotsfrist — 49GSSH Los 505-Freianlagen TO3
DESCRIPTION:Phase: Ausschreibung | Beschreibung: Angebote werden eingeholt | Link: https://ausschreibungsradar.com/ausschreibung/33a45e11-f162-4a21-956f-66fe59431b6e/
URL:https://ausschreibungsradar.com/ausschreibung/33a45e11-f162-4a21-956f-66fe59431b6e/
END:VEVENT
BEGIN:VEVENT
UID:a83f4c5ae6df0e99@ausschreibungsradar.com
DTSTAMP:20260424T011535Z
DTSTART;VALUE=DATE:20260401
DTEND;VALUE=DATE:20260401
SUMMARY:Vergabeergebnis — 49GSSH Los 505-Freianlagen TO3
DESCRIPTION:Phase: Vergabeergebnis | Beschreibung: Auftrag wurde zugeschlagen | Link: https://ausschreibungsradar.com/ausschreibung/c29da0f3-430a-4007-a3d4-9e7eee29de0e/
URL:https://ausschreibungsradar.com/ausschreibung/c29da0f3-430a-4007-a3d4-9e7eee29de0e/
END:VEVENT
END:VCALENDAR
