BEGIN:VCALENDAR
VERSION:2.0
PRODID:-//AusschreibungsRadar//Timeline//DE
CALSCALE:GREGORIAN
METHOD:PUBLISH
X-WR-CALNAME:Projekt Lutherkirche, BA1 - Sockelsanierung mit Erdarbeiten
X-WR-TIMEZONE:Europe/Berlin
BEGIN:VEVENT
UID:b4dcc067f3b5a2df@ausschreibungsradar.com
DTSTAMP:20260425T104736Z
DTSTART;VALUE=DATE:20241107
DTEND;VALUE=DATE:20241107
SUMMARY:Angebotsfrist — Lutherkirche\, BA1 - Sockelsanierung mit Erdarbeiten
DESCRIPTION:Phase: Ausschreibung | Beschreibung: Angebote werden eingeholt | Link: https://ausschreibungsradar.com/ausschreibung/431fe02a-a9bf-4f25-8d78-e541de65fa8f/
URL:https://ausschreibungsradar.com/ausschreibung/431fe02a-a9bf-4f25-8d78-e541de65fa8f/
END:VEVENT
BEGIN:VEVENT
UID:7479600bc0d4dd19@ausschreibungsradar.com
DTSTAMP:20260425T104736Z
DTSTART;VALUE=DATE:20241203
DTEND;VALUE=DATE:20241203
SUMMARY:Vergabeergebnis — Lutherkirche\, BA1 - Sockelsanierung mit Erdarbeiten
DESCRIPTION:Phase: Vergabeergebnis | Beschreibung: Auftrag wurde zugeschlagen | Link: https://ausschreibungsradar.com/ausschreibung/c3ff4bef-b00b-4561-8eda-56a5537cad2b/ | Geschätzter Wert: 93336 €
URL:https://ausschreibungsradar.com/ausschreibung/c3ff4bef-b00b-4561-8eda-56a5537cad2b/
END:VEVENT
END:VCALENDAR
