BEGIN:VCALENDAR
VERSION:2.0
PRODID:-//AusschreibungsRadar//Timeline//DE
CALSCALE:GREGORIAN
METHOD:PUBLISH
X-WR-CALNAME:Projekt Holz-Alu-Fenster BA II
X-WR-TIMEZONE:Europe/Berlin
BEGIN:VEVENT
UID:d2ecdfa888b42b3f@ausschreibungsradar.com
DTSTAMP:20260425T205255Z
DTSTART;VALUE=DATE:20241029
DTEND;VALUE=DATE:20241029
SUMMARY:Angebotsfrist — Holz-Alu-Fenster BA II
DESCRIPTION:Phase: Ausschreibung | Beschreibung: Angebote werden eingeholt | Link: https://ausschreibungsradar.com/ausschreibung/c401c0a7-463d-40b7-b13e-c2be300d87bc/
URL:https://ausschreibungsradar.com/ausschreibung/c401c0a7-463d-40b7-b13e-c2be300d87bc/
END:VEVENT
BEGIN:VEVENT
UID:a6bd942d0bfcad32@ausschreibungsradar.com
DTSTAMP:20260425T205255Z
DTSTART;VALUE=DATE:20240924
DTEND;VALUE=DATE:20240924
SUMMARY:Ausschreibung — Holz-Alu-Fenster BA II
DESCRIPTION:Phase: Ausschreibung | Beschreibung: Offizielle Ausschreibung mit Bieterfrist. | Link: https://ausschreibungsradar.com/ausschreibung/ted-572125-2024/
URL:https://ausschreibungsradar.com/ausschreibung/ted-572125-2024/
END:VEVENT
END:VCALENDAR
