BEGIN:VCALENDAR
VERSION:2.0
PRODID:-//AusschreibungsRadar//Timeline//DE
CALSCALE:GREGORIAN
METHOD:PUBLISH
X-WR-CALNAME:Projekt Stlf 20 für die Feuerwehr Biebergemünd
X-WR-TIMEZONE:Europe/Berlin
BEGIN:VEVENT
UID:f612843f8ec5ffbd@ausschreibungsradar.com
DTSTAMP:20260425T002251Z
DTSTART;VALUE=DATE:20260108
DTEND;VALUE=DATE:20260108
SUMMARY:Angebotsfrist — Stlf 20 für die Feuerwehr Biebergemünd
DESCRIPTION:Phase: Ausschreibung | Beschreibung: Angebote werden eingeholt | Link: https://ausschreibungsradar.com/ausschreibung/25584a6b-79d8-4243-8739-d47fa5ed49a1/
URL:https://ausschreibungsradar.com/ausschreibung/25584a6b-79d8-4243-8739-d47fa5ed49a1/
END:VEVENT
BEGIN:VEVENT
UID:ac584b4a236dfd0b@ausschreibungsradar.com
DTSTAMP:20260425T002251Z
DTSTART;VALUE=DATE:20260218
DTEND;VALUE=DATE:20260218
SUMMARY:Vergabeergebnis — Stlf 20 für die Feuerwehr Biebergemünd
DESCRIPTION:Phase: Vergabeergebnis | Beschreibung: Verfahren noch offen | Link: https://ausschreibungsradar.com/ausschreibung/c43007ca-0706-4a0f-8d81-7bc47e49b8bc/
URL:https://ausschreibungsradar.com/ausschreibung/c43007ca-0706-4a0f-8d81-7bc47e49b8bc/
END:VEVENT
BEGIN:VEVENT
UID:2b1f9106c223bd9f@ausschreibungsradar.com
DTSTAMP:20260425T002251Z
DTSTART;VALUE=DATE:20260218
DTEND;VALUE=DATE:20260218
SUMMARY:Zuschlag — Stlf 20 für die Feuerwehr Biebergemünd
DESCRIPTION:Phase: Zuschlag | Beschreibung: Vergabeergebnis — Auftrag wurde erteilt oder Verfahren beendet. | Link: https://ausschreibungsradar.com/ausschreibung/817b5da4-73aa-4316-8eac-060dbe71dad1/
URL:https://ausschreibungsradar.com/ausschreibung/817b5da4-73aa-4316-8eac-060dbe71dad1/
END:VEVENT
END:VCALENDAR
