BEGIN:VCALENDAR
VERSION:2.0
PRODID:-//AusschreibungsRadar//Timeline//DE
CALSCALE:GREGORIAN
METHOD:PUBLISH
X-WR-CALNAME:Projekt Sanierung-Windeck-Gymnasium, Stark- Schwachstrom
X-WR-TIMEZONE:Europe/Berlin
BEGIN:VEVENT
UID:c66c423c0b73c989@ausschreibungsradar.com
DTSTAMP:20260424T081417Z
DTSTART;VALUE=DATE:20260204
DTEND;VALUE=DATE:20260204
SUMMARY:Angebotsfrist — Sanierung-Windeck-Gymnasium\, Stark- Schwachstrom
DESCRIPTION:Phase: Ausschreibung | Beschreibung: Angebote werden eingeholt | Link: https://ausschreibungsradar.com/ausschreibung/c4a12fe7-a8eb-4d86-a7d5-1abe3ef9c6d4/
URL:https://ausschreibungsradar.com/ausschreibung/c4a12fe7-a8eb-4d86-a7d5-1abe3ef9c6d4/
END:VEVENT
END:VCALENDAR
