BEGIN:VCALENDAR
VERSION:2.0
PRODID:-//AusschreibungsRadar//Timeline//DE
CALSCALE:GREGORIAN
METHOD:PUBLISH
X-WR-CALNAME:Projekt Intermisbau Oberschule Friedersdorf
X-WR-TIMEZONE:Europe/Berlin
BEGIN:VEVENT
UID:391eb87f7c9dc8d4@ausschreibungsradar.com
DTSTAMP:20260425T143616Z
DTSTART;VALUE=DATE:20240312
DTEND;VALUE=DATE:20240312
SUMMARY:Angebotsfrist — Intermisbau Oberschule Friedersdorf
DESCRIPTION:Phase: Ausschreibung | Beschreibung: Angebote werden eingeholt | Link: https://ausschreibungsradar.com/ausschreibung/c4e6d4c4-aa4a-45ba-9eb4-2d76d5255310/
URL:https://ausschreibungsradar.com/ausschreibung/c4e6d4c4-aa4a-45ba-9eb4-2d76d5255310/
END:VEVENT
BEGIN:VEVENT
UID:1d31112d4f7e1c41@ausschreibungsradar.com
DTSTAMP:20260425T143616Z
DTSTART;VALUE=DATE:20240223
DTEND;VALUE=DATE:20240223
SUMMARY:Ausschreibung — Intermisbau Oberschule Friedersdorf
DESCRIPTION:Phase: Ausschreibung | Beschreibung: Offizielle Ausschreibung mit Bieterfrist. | Link: https://ausschreibungsradar.com/ausschreibung/a1c9a59d-15a6-4f62-a1a6-439da9b707ff/
URL:https://ausschreibungsradar.com/ausschreibung/a1c9a59d-15a6-4f62-a1a6-439da9b707ff/
END:VEVENT
BEGIN:VEVENT
UID:c899910d9a0d42a8@ausschreibungsradar.com
DTSTAMP:20260425T143616Z
DTSTART;VALUE=DATE:20240226
DTEND;VALUE=DATE:20240226
SUMMARY:Ausschreibung — Intermisbau Oberschule Friedersdorf
DESCRIPTION:Phase: Ausschreibung | Beschreibung: Offizielle Ausschreibung mit Bieterfrist. | Link: https://ausschreibungsradar.com/ausschreibung/ted-116071-2024/
URL:https://ausschreibungsradar.com/ausschreibung/ted-116071-2024/
END:VEVENT
BEGIN:VEVENT
UID:19c9358c0619b8fc@ausschreibungsradar.com
DTSTAMP:20260425T143616Z
DTSTART;VALUE=DATE:20241010
DTEND;VALUE=DATE:20241010
SUMMARY:Vergabeergebnis — Intermisbau Oberschule Friedersdorf
DESCRIPTION:Phase: Vergabeergebnis | Beschreibung: Auftrag wurde zugeschlagen | Link: https://ausschreibungsradar.com/ausschreibung/f5c888b6-5523-42cf-bbbe-9b494b4f840b/
URL:https://ausschreibungsradar.com/ausschreibung/f5c888b6-5523-42cf-bbbe-9b494b4f840b/
END:VEVENT
END:VCALENDAR
