BEGIN:VCALENDAR
VERSION:2.0
PRODID:-//AusschreibungsRadar//Timeline//DE
CALSCALE:GREGORIAN
METHOD:PUBLISH
X-WR-CALNAME:Projekt Neubau einer Kita in Modulbauweise
X-WR-TIMEZONE:Europe/Berlin
BEGIN:VEVENT
UID:571511d364ef2422@ausschreibungsradar.com
DTSTAMP:20260424T160741Z
DTSTART;VALUE=DATE:20240620
DTEND;VALUE=DATE:20240620
SUMMARY:Angebotsfrist — Neubau einer Kita in Modulbauweise
DESCRIPTION:Phase: Ausschreibung | Beschreibung: Angebote werden eingeholt | Link: https://ausschreibungsradar.com/ausschreibung/c64d3621-16d2-4b6d-abc3-9b5c84e76e93/
URL:https://ausschreibungsradar.com/ausschreibung/c64d3621-16d2-4b6d-abc3-9b5c84e76e93/
END:VEVENT
BEGIN:VEVENT
UID:dee0cf6c9ffa9f0d@ausschreibungsradar.com
DTSTAMP:20260424T160741Z
DTSTART;VALUE=DATE:20240729
DTEND;VALUE=DATE:20240729
SUMMARY:Vergabeergebnis — Neubau einer Kita in Modulbauweise
DESCRIPTION:Phase: Vergabeergebnis | Beschreibung: Auftrag wurde zugeschlagen | Link: https://ausschreibungsradar.com/ausschreibung/e4996f6c-37ea-4be4-8219-cc10a7fe4b76/
URL:https://ausschreibungsradar.com/ausschreibung/e4996f6c-37ea-4be4-8219-cc10a7fe4b76/
END:VEVENT
END:VCALENDAR
