BEGIN:VCALENDAR
VERSION:2.0
PRODID:-//AusschreibungsRadar//Timeline//DE
CALSCALE:GREGORIAN
METHOD:PUBLISH
X-WR-CALNAME:Projekt Krummennaab - Soziales Zentrum | Gerüstbauarbeiten DIN 18451
X-WR-TIMEZONE:Europe/Berlin
BEGIN:VEVENT
UID:65a4508b191357f2@ausschreibungsradar.com
DTSTAMP:20260424T160208Z
DTSTART;VALUE=DATE:20241204
DTEND;VALUE=DATE:20241204
SUMMARY:Ausschreibung — Krummennaab - Soziales Zentrum | Gerüstbauarbeiten DIN 18451
DESCRIPTION:Phase: Ausschreibung | Beschreibung: Angebote werden eingeholt | Link: https://ausschreibungsradar.com/ausschreibung/c64df36b-d2a9-460d-aa7b-4f8b01f30302/
URL:https://ausschreibungsradar.com/ausschreibung/c64df36b-d2a9-460d-aa7b-4f8b01f30302/
END:VEVENT
BEGIN:VEVENT
UID:46db31fecebaec92@ausschreibungsradar.com
DTSTAMP:20260424T160208Z
DTSTART;VALUE=DATE:20241204
DTEND;VALUE=DATE:20241204
SUMMARY:Ausschreibung — Krummennaab - Soziales Zentrum | Gerüstbauarbeiten DIN 18451
DESCRIPTION:Phase: Ausschreibung | Beschreibung: Offizielle Ausschreibung mit Bieterfrist. | Link: https://ausschreibungsradar.com/ausschreibung/b4b786f5-601e-4c06-963f-8132d43ba3d2/
URL:https://ausschreibungsradar.com/ausschreibung/b4b786f5-601e-4c06-963f-8132d43ba3d2/
END:VEVENT
BEGIN:VEVENT
UID:43cf646a76de23bf@ausschreibungsradar.com
DTSTAMP:20260424T160208Z
DTSTART;VALUE=DATE:20241204
DTEND;VALUE=DATE:20241204
SUMMARY:Ausschreibung — Krummennaab - Soziales Zentrum | Gerüstbauarbeiten DIN 18451
DESCRIPTION:Phase: Ausschreibung | Beschreibung: Offizielle Ausschreibung mit Bieterfrist. | Link: https://ausschreibungsradar.com/ausschreibung/810c2180-1116-4fc2-b0f2-3e2ea2c79878/
URL:https://ausschreibungsradar.com/ausschreibung/810c2180-1116-4fc2-b0f2-3e2ea2c79878/
END:VEVENT
BEGIN:VEVENT
UID:0060a6b3fd957d0f@ausschreibungsradar.com
DTSTAMP:20260424T160208Z
DTSTART;VALUE=DATE:20241204
DTEND;VALUE=DATE:20241204
SUMMARY:Ausschreibung — Krummennaab - Soziales Zentrum | Gerüstbauarbeiten DIN 18451
DESCRIPTION:Phase: Ausschreibung | Beschreibung: Offizielle Ausschreibung mit Bieterfrist. | Link: https://ausschreibungsradar.com/ausschreibung/3fb11ea8-08cc-4d9e-9f0a-185f2685de4a/
URL:https://ausschreibungsradar.com/ausschreibung/3fb11ea8-08cc-4d9e-9f0a-185f2685de4a/
END:VEVENT
BEGIN:VEVENT
UID:3dbfa967ff82723f@ausschreibungsradar.com
DTSTAMP:20260424T160208Z
DTSTART;VALUE=DATE:20241204
DTEND;VALUE=DATE:20241204
SUMMARY:Ausschreibung — Krummennaab - Soziales Zentrum | Gerüstbauarbeiten DIN 18451
DESCRIPTION:Phase: Ausschreibung | Beschreibung: Offizielle Ausschreibung mit Bieterfrist. | Link: https://ausschreibungsradar.com/ausschreibung/9d96d416-70b4-4291-8581-1b4731d7b30e/
URL:https://ausschreibungsradar.com/ausschreibung/9d96d416-70b4-4291-8581-1b4731d7b30e/
END:VEVENT
BEGIN:VEVENT
UID:61d716556e15c866@ausschreibungsradar.com
DTSTAMP:20260424T160208Z
DTSTART;VALUE=DATE:20241204
DTEND;VALUE=DATE:20241204
SUMMARY:Ausschreibung — Krummennaab - Soziales Zentrum | Gerüstbauarbeiten DIN 18451
DESCRIPTION:Phase: Ausschreibung | Beschreibung: Offizielle Ausschreibung mit Bieterfrist. | Link: https://ausschreibungsradar.com/ausschreibung/26e21066-f1fc-4cad-b023-4030dfc2cfb3/
URL:https://ausschreibungsradar.com/ausschreibung/26e21066-f1fc-4cad-b023-4030dfc2cfb3/
END:VEVENT
END:VCALENDAR
