BEGIN:VCALENDAR
VERSION:2.0
PRODID:-//AusschreibungsRadar//Timeline//DE
CALSCALE:GREGORIAN
METHOD:PUBLISH
X-WR-CALNAME:Projekt TNW_HLS_Lebenshilfe Amberg-Sulzbach e. V._Neubau einer SVE u
X-WR-TIMEZONE:Europe/Berlin
BEGIN:VEVENT
UID:ccdb9c396ffd5157@ausschreibungsradar.com
DTSTAMP:20260424T225811Z
DTSTART;VALUE=DATE:20241007
DTEND;VALUE=DATE:20241007
SUMMARY:Ausschreibung — TNW_HLS_Lebenshilfe Amberg-Sulzbach e. V._Neubau einer SVE u
DESCRIPTION:Phase: Ausschreibung | Beschreibung: Angebote werden eingeholt | Link: https://ausschreibungsradar.com/ausschreibung/c6fa24e8-2de6-4a48-9dcb-12d7278030cb/
URL:https://ausschreibungsradar.com/ausschreibung/c6fa24e8-2de6-4a48-9dcb-12d7278030cb/
END:VEVENT
BEGIN:VEVENT
UID:06c6d74289e50da5@ausschreibungsradar.com
DTSTAMP:20260424T225811Z
DTSTART;VALUE=DATE:20241007
DTEND;VALUE=DATE:20241007
SUMMARY:Ausschreibung — TNW_HLS_Lebenshilfe Amberg-Sulzbach e. V._Neubau einer SVE u
DESCRIPTION:Phase: Ausschreibung | Beschreibung: Offizielle Ausschreibung mit Bieterfrist. | Link: https://ausschreibungsradar.com/ausschreibung/d77999af-2445-4120-aadd-fcb9fbdbd136/
URL:https://ausschreibungsradar.com/ausschreibung/d77999af-2445-4120-aadd-fcb9fbdbd136/
END:VEVENT
BEGIN:VEVENT
UID:ce79a3ede73b41a5@ausschreibungsradar.com
DTSTAMP:20260424T225811Z
DTSTART;VALUE=DATE:20250303
DTEND;VALUE=DATE:20250303
SUMMARY:Vergabeergebnis — TNW_HLS_Lebenshilfe Amberg-Sulzbach e. V._Neubau einer SVE u
DESCRIPTION:Phase: Vergabeergebnis | Beschreibung: Auftrag wurde zugeschlagen | Link: https://ausschreibungsradar.com/ausschreibung/e6adea1c-5e2e-4eaa-ab60-ead73a5daf65/
URL:https://ausschreibungsradar.com/ausschreibung/e6adea1c-5e2e-4eaa-ab60-ead73a5daf65/
END:VEVENT
END:VCALENDAR
